BEGIN:VCALENDAR
VERSION:2.0
PRODID:-//ChamberMaster//Event Calendar 2.0//EN
METHOD:PUBLISH
X-PUBLISHED-TTL:P3D
REFRESH-INTERVAL:P3D
CALSCALE:GREGORIAN
BEGIN:VEVENT
DTSTART:20160210T160000Z
DTEND:20160210T162000Z
X-MICROSOFT-CDO-ALLDAYEVENT:FALSE
SUMMARY:Ribbon Cutting - Hwy 55 Rental
DESCRIPTION:
X-ALT-DESC;FMTTYPE=text/html:
LOCATION:Hwy 55 Rental 225 MN-55\, Hamel\, MN 55340
UID:e.1321.1874
SEQUENCE:3
DTSTAMP:20260422T070124Z
URL:https://business.i94westchamber.org/events/details/ribbon-cutting-hwy-55-rental-02-10-2016-1874
END:VEVENT

END:VCALENDAR
