BEGIN:VCALENDAR
VERSION:2.0
PRODID:-//ChamberMaster//Event Calendar 2.0//EN
METHOD:PUBLISH
X-PUBLISHED-TTL:P3D
REFRESH-INTERVAL:P3D
CALSCALE:GREGORIAN
BEGIN:VEVENT
DTSTART:20160602T200000Z
DTEND:20160602T203000Z
X-MICROSOFT-CDO-ALLDAYEVENT:FALSE
SUMMARY:Ribbon Cutting - Millennium Dance Company
DESCRIPTION:Please join us as we welcome\n\nMillennium Dance Company\n\nto the I-94 West Chamber of Commerce!\n\n\n\nMillennium Dance Company strives to provide the highest level of dance instruction from the beginning recreational dancer through the most advanced performers. They are a full service dance studio with classes ages 18 months through adult\, ranging in styles from ballet\, tap\, jazz\, lyrical\, contemporary\, hip hop and much more.
X-ALT-DESC;FMTTYPE=text/html:Please join us as we welcome<br />\nMillennium Dance Company<br />\nto the I-94 West Chamber of Commerce!<br />\n<br />\nMillennium Dance Company strives to provide the highest level of dance instruction from the beginning recreational dancer through the most advanced performers. They are a full service dance studio with classes ages 18 months through adult\, ranging in styles from ballet\, tap\, jazz\, lyrical\, contemporary\, hip hop and much more.
LOCATION:Millennium Dance Company 5633 La Centre Ave\, Ste. 400\, Albertville
UID:e.1321.1941
SEQUENCE:3
DTSTAMP:20260422T001434Z
URL:https://business.i94westchamber.org/events/details/ribbon-cutting-millennium-dance-company-06-02-2016-1941
END:VEVENT

END:VCALENDAR
