BEGIN:VCALENDAR
VERSION:2.0
PRODID:-//ChamberMaster//Event Calendar 2.0//EN
METHOD:PUBLISH
X-PUBLISHED-TTL:P3D
REFRESH-INTERVAL:P3D
CALSCALE:GREGORIAN
BEGIN:VEVENT
DTSTART:20150519T210000Z
DTEND:20150519T230000Z
X-MICROSOFT-CDO-ALLDAYEVENT:FALSE
SUMMARY:Ribbon Cutting & Open House
DESCRIPTION:Ribbon Cutting & Sneak Peek Preview\n\nBuddy's New Family Fun Zone!\n\nTuesday\, May 19\, 2015   4:00PM   6:00PM    \n\nHoliday Inn Mpls. NW-Elk River  \n\n9200 Quaday Avenue NE Otsego\, MN 55330\n\n \n\nBe among the first to see and experience the soon to open Buddy's Family Fun Zone!  \n\nThis 7\,000 sq. ft. interactive Fun Zone includes Eight (8) Family X-Box Studios\, Buddy's Nine Hole Black Light\n\nPutting Course and More.   Refreshments will be served!   See you there!
X-ALT-DESC;FMTTYPE=text/html:Ribbon Cutting &amp\; Sneak Peek Preview<br />\nBuddy&#39\;s New Family Fun Zone!<br />\nTuesday\, May 19\, 2015&nbsp\;&nbsp\; 4:00PM &ndash\; 6:00PM&nbsp\;&nbsp\;&nbsp\;&nbsp\;<br />\nHoliday Inn Mpls. NW-Elk River&nbsp\;&nbsp\;<br />\n9200 Quaday Avenue NE Otsego\, MN 55330<br />\n&nbsp\;<br />\nBe among the first to see and experience the soon to open Buddy&rsquo\;s Family Fun Zone!&nbsp\;&nbsp\;<br />\nThis 7\,000 sq. ft. interactive Fun Zone includes Eight (8) Family X-Box Studios\, Buddy&#39\;s Nine Hole Black Light<br />\nPutting Course and More.&nbsp\;&nbsp\; Refreshments will be served!&nbsp\;&nbsp\; See you there!
LOCATION:
UID:e.1321.1554
SEQUENCE:3
DTSTAMP:20260422T183726Z
URL:https://business.i94westchamber.org/events/details/ribbon-cutting-open-house-05-19-2015-1554
END:VEVENT

END:VCALENDAR
