BEGIN:VCALENDAR
VERSION:2.0
PRODID:-//ChamberMaster//Event Calendar 2.0//EN
METHOD:PUBLISH
X-PUBLISHED-TTL:P3D
REFRESH-INTERVAL:P3D
CALSCALE:GREGORIAN
BEGIN:VEVENT
DTSTART:20160314T200000Z
DTEND:20160314T203000Z
X-MICROSOFT-CDO-ALLDAYEVENT:FALSE
SUMMARY:Ribbon Cutting - StarCor Credit Union
DESCRIPTION:Please join us as we welcome\n\nStarCor Credit Union\n\nto the I-94 West Chamber of Commerce!
X-ALT-DESC;FMTTYPE=text/html:Please join us as we welcome<br />\nStarCor Credit Union<br />\nto the I-94 West Chamber of Commerce!
LOCATION:StarCor Credit Union Albertville
UID:e.1321.1873
SEQUENCE:3
DTSTAMP:20260422T042012Z
URL:https://business.i94westchamber.org/events/details/ribbon-cutting-starcor-credit-union-03-14-2016-1873
END:VEVENT

END:VCALENDAR
