BEGIN:VCALENDAR
VERSION:2.0
PRODID:-//ChamberMaster//Event Calendar 2.0//EN
METHOD:PUBLISH
X-PUBLISHED-TTL:P3D
REFRESH-INTERVAL:P3D
CALSCALE:GREGORIAN
BEGIN:VEVENT
DTSTART:20170511T150000Z
DTEND:20170511T170000Z
X-MICROSOFT-CDO-ALLDAYEVENT:FALSE
SUMMARY:Ribbon Cuttings
DESCRIPTION:Thursday\, May 11th \n\n	Main Street Farmer in St. Michael 10:00am \n\n	 \n	DMR clinic in Rogers 11:00am \n\n	 \n	Metro Paving Inc in Rogers 11:45am
X-ALT-DESC;FMTTYPE=text/html:<span style="color:black\;"><span style="font-family:arial\,sans-serif\;">Thursday\, May 11th </span></span>\n<ul>\n	<li style="color:black\;"><span style="font-family:arial\,sans-serif\;">Main Street Farmer in St. Michael 10:00am </span><br />\n	&nbsp\;</li>\n	<li style="color:black\;"><span style="font-family:arial\,sans-serif\;">DMR clinic in Rogers 11:00am </span><br />\n	&nbsp\;</li>\n	<li style="color:black\;"><span style="font-family:arial\,sans-serif\;">Metro Paving Inc in Rogers 11:45am </span><br />\n	&nbsp\;</li>\n</ul>\n
LOCATION:
UID:e.1321.2995
SEQUENCE:3
DTSTAMP:20260421T082929Z
URL:https://business.i94westchamber.org/events/details/ribbon-cuttings-2995
END:VEVENT

END:VCALENDAR
