BEGIN:VCALENDAR
VERSION:2.0
PRODID:-//ChamberMaster//Event Calendar 2.0//EN
METHOD:PUBLISH
X-PUBLISHED-TTL:P3D
REFRESH-INTERVAL:P3D
CALSCALE:GREGORIAN
BEGIN:VEVENT
DTSTART:20160924T220000Z
DTEND:20160925T040000Z
X-MICROSOFT-CDO-ALLDAYEVENT:FALSE
SUMMARY:Rivers of Hope Gala & Silent Auction
DESCRIPTION:On September 24th Rivers of Hope will host our Annual Gala and Silent Auction. \n\nOur Gala is our greatest fundraiser for our VIP Youth Program in Sherburne and Wright counties.\n\n \n\nPlease\, join us as a $5\,000\, "Village People"\, Sponsor. The "Village People" Sponsorship includes:\n\n\n	Reserved table\, front and center\, for 16 guests\n	Wine and appetizers before dinner\n	Business name on all advertisements and correspondence for the event\n	Business name on table\n	Business listed on all publications\, in program\, on our website\, and our Facebook page\n\n \n\nOr the "ABBA" Sponsorship of $2\,500 includes:\n\n\n	Reserved table\, front and center\, for eight guests\n	Wine and appetizers before dinner\n	Business name and logo on all advertisements and correspondence for the event\n	Business name on table\n	Business listed in program\, on our website\, and our Facebook page\n\n \n\nOr the "Bee Gees" Sponsorship of $1000 includes:\n\n\n	Reserved table for eight guests\n	Wine served with dinner\n	Business name on table\n	Business listed in program\, on our website\, and our Facebook page\n\n \n\nOr the "KC and the Sunshine Band" Sponsorship of $500 includes:\n\n\n	Dinner for four guests\n	Wine served with dinner\n	Business listed in program\, on our website\, and our Facebook page\n\n \n\nDeadline for Sponsorship is Friday\, August 31st!
X-ALT-DESC;FMTTYPE=text/html:&nbsp\;<br />\n<strong><span style="font-family:times new roman\,serif\;"><span style="font-size:12.0pt\;">On September 24<sup>th</sup> Rivers of Hope will host our Annual Gala and Silent Auction. </span></span></strong><br />\n<strong><span style="font-family:times new roman\,serif\;">Our Gala is our greatest fundraiser for our VIP Youth Program in Sherburne and Wright counties.</span></strong><br />\n&nbsp\;<br />\n<span style="font-family:times new roman\,serif\;"><span style="font-size:12.0pt\;">Please\, join us as a <strong>$5\,000\, &ldquo\;Village People&rdquo\;\, Sponsor</strong>. The &ldquo\;Village People&rdquo\; Sponsorship includes:</span></span>\n\n<ul style="list-style-type:circle\;">\n	<li style="margin-bottom:0in\;margin-bottom:.0001pt\;"><span style="font-family:times new roman\,serif\;"><span style="font-size:12.0pt\;">Reserved table\, front and center\, for 16 guests</span></span></li>\n	<li style="margin-bottom:0in\;margin-bottom:.0001pt\;"><span style="font-family:times new roman\,serif\;"><span style="font-size:12.0pt\;">Wine and appetizers before dinner</span></span></li>\n	<li style="margin-bottom:0in\;margin-bottom:.0001pt\;"><span style="font-family:times new roman\,serif\;"><span style="font-size:12.0pt\;">Business name on all advertisements and correspondence for the event</span></span></li>\n	<li style="margin-bottom:0in\;margin-bottom:.0001pt\;"><span style="font-family:times new roman\,serif\;"><span style="font-size:12.0pt\;">Business name on table</span></span></li>\n	<li style="margin-bottom:0in\;margin-bottom:.0001pt\;"><span style="font-family:times new roman\,serif\;"><span style="font-size:12.0pt\;">Business listed on all publications\, in program\, on our website\, and our Facebook page</span></span></li>\n</ul>\n&nbsp\;<br />\n<span style="font-family:times new roman\,serif\;"><span style="font-size:12.0pt\;">Or the <strong>&ldquo\;ABBA&rdquo\; Sponsorship of $2\,500</strong> includes:</span></span>\n\n<ul style="list-style-type:circle\;">\n	<li style="margin-bottom:0in\;margin-bottom:.0001pt\;"><span style="font-family:times new roman\,serif\;"><span style="font-size:12.0pt\;">Reserved table\, front and center\, for eight guests</span></span></li>\n	<li style="margin-bottom:0in\;margin-bottom:.0001pt\;"><span style="font-family:times new roman\,serif\;"><span style="font-size:12.0pt\;">Wine and appetizers before dinner</span></span></li>\n	<li style="margin-bottom:0in\;margin-bottom:.0001pt\;"><span style="font-family:times new roman\,serif\;"><span style="font-size:12.0pt\;">Business name and logo on all advertisements and correspondence for the event</span></span></li>\n	<li style="margin-bottom:0in\;margin-bottom:.0001pt\;"><span style="font-family:times new roman\,serif\;"><span style="font-size:12.0pt\;">Business name on table</span></span></li>\n	<li style="margin-bottom:0in\;margin-bottom:.0001pt\;"><span style="font-family:times new roman\,serif\;"><span style="font-size:12.0pt\;">Business listed in program\, on our website\, and our Facebook page</span></span></li>\n</ul>\n&nbsp\;<br />\n<span style="font-family:times new roman\,serif\;"><span style="font-size:12.0pt\;">Or the <strong>&ldquo\;Bee Gees&rdquo\; Sponsorship of $1000</strong> includes:</span></span>\n\n<ul style="list-style-type:circle\;">\n	<li><span style="font-family:times new roman\,serif\;"><span style="font-size:12.0pt\;">Reserved table for eight guests</span></span></li>\n	<li><span style="font-family:times new roman\,serif\;"><span style="font-size:12.0pt\;">Wine served with dinner</span></span></li>\n	<li><span style="font-family:times new roman\,serif\;"><span style="font-size:12.0pt\;">Business name on table</span></span></li>\n	<li style="margin-bottom:0in\;margin-bottom:.0001pt\;"><span style="font-family:times new roman\,serif\;"><span style="font-size:12.0pt\;">Business listed in program\, on our website\, and our Facebook page</span></span></li>\n</ul>\n&nbsp\;<br />\n<span style="font-family:times new roman\,serif\;"><span style="font-size:12.0pt\;">Or the <strong>&ldquo\;KC and the Sunshine Band&rdquo\; Sponsorship of $500</strong> includes:</span></span>\n\n<ul style="list-style-type:circle\;">\n	<li><span style="font-family:times new roman\,serif\;"><span style="font-size:12.0pt\;">Dinner for four guests</span></span></li>\n	<li><span style="font-family:times new roman\,serif\;"><span style="font-size:12.0pt\;">Wine served with dinner</span></span></li>\n	<li><span style="font-family:times new roman\,serif\;"><span style="font-size:12.0pt\;">Business listed in program\, on our website\, and our Facebook page</span></span></li>\n</ul>\n&nbsp\;<br />\n<strong><span style="font-family:times new roman\,serif\;"><span style="font-size:13.0pt\;">Deadline for Sponsorship is Friday\, August 31<sup>st</sup>!</span></span></strong><br />\n&nbsp\;
LOCATION:
UID:e.1321.1999
SEQUENCE:3
DTSTAMP:20260421T201157Z
URL:https://business.i94westchamber.org/events/details/rivers-of-hope-gala-silent-auction-09-24-2016-1999
END:VEVENT

END:VCALENDAR
