BEGIN:VCALENDAR
VERSION:2.0
PRODID:-//ChamberMaster//Event Calendar 2.0//EN
METHOD:PUBLISH
X-PUBLISHED-TTL:P3D
REFRESH-INTERVAL:P3D
CALSCALE:GREGORIAN
BEGIN:VEVENT
DTSTART:20151024T230000Z
DTEND:20151025T040000Z
X-MICROSOFT-CDO-ALLDAYEVENT:FALSE
SUMMARY:Rivers Of Hope Roaring 20's Gala
DESCRIPTION:Save the Date
X-ALT-DESC;FMTTYPE=text/html:Save the Date
LOCATION:
UID:e.1321.1603
SEQUENCE:3
DTSTAMP:20260422T113455Z
URL:https://business.i94westchamber.org/events/details/rivers-of-hope-roaring-20-s-gala-10-24-2015-1603
END:VEVENT

END:VCALENDAR
