BEGIN:VCALENDAR
VERSION:2.0
PRODID:-//ChamberMaster//Event Calendar 2.0//EN
METHOD:PUBLISH
X-PUBLISHED-TTL:P3D
REFRESH-INTERVAL:P3D
CALSCALE:GREGORIAN
BEGIN:VEVENT
DTSTART:20161115T181500Z
DTEND:20161115T230000Z
X-MICROSOFT-CDO-ALLDAYEVENT:FALSE
SUMMARY:Rock the RAC
DESCRIPTION:Rock the RAC\n\nMinnesota NHL Alumni Association is coming to town for a great fund raiser benefiting Minnesota Warriors Hockey and Rogers Youth Hockey.  This exhibition game brings back memories of former NHL players\, offers great comradery\, fun and excitement for everyone.  The Minnesota Warriors Hockey is a truly unique organization that help veterans with reintegration into civilian life and gives them a sense of pride.  They have various levels of hockey available to their members\, which consists of wounded\, injured\, or otherwise disabled Veterans of the Unites States Military.\n\n \n\nThe event includes a silent auction\, chuck-a-puck\, fire rod shootout and more.  All ticket sales go to support Rogers Youth Hockey and the Minnesota Warriors.   You don't want to miss out!  For more information regarding MN Warriors visit www.mnwarriors.com\; for info regarding MN NHL Alumni visit www.mnnhlalumni.com.
X-ALT-DESC;FMTTYPE=text/html:<em><strong><span style="color:#505050\;"><span style="font-family:arial\,sans-serif\;"><span style="font-size:10.5pt\;">Rock the RAC</span></span></span></strong></em><br />\n<span style="color:#505050\;"><span style="font-family:arial\,sans-serif\;"><span style="font-size:10.5pt\;"><em><span style="font-family:arial\,sans-serif\;">Minnesota NHL Alumni</span></em> <em><span style="font-family:arial\,sans-serif\;">Association</span></em> is coming to town for a great fund raiser benefiting <em><span style="font-family:arial\,sans-serif\;">Minnesota Warriors Hockey </span></em>and <em><span style="font-family:arial\,sans-serif\;">Rogers Youth Hockey</span></em>.&nbsp\; This exhibition game brings back memories of former NHL players\, offers great comradery\, fun and excitement for everyone.&nbsp\; The Minnesota Warriors Hockey is a truly unique organization that help veterans with reintegration into civilian life and gives them a sense of pride.&nbsp\; They have various levels of hockey available to their members\, which consists of wounded\, injured\, or otherwise disabled Veterans of the Unites States Military.<br />\n&nbsp\;<br />\nThe event includes a silent auction\, chuck-a-puck\, fire rod shootout and more.&nbsp\; All ticket sales go to support Rogers Youth Hockey and the Minnesota Warriors.&nbsp\;&nbsp\; You don&rsquo\;t want to miss out!&nbsp\; For more information regarding MN Warriors visit <a href="http://cityofrogers.us2.list-manage2.com/track/click?u=5d64a50795b75ad3ed3f9fe1c&amp\;id=4731fcf44a&amp\;e=0324325e4f"><span style="color:#336699\;">www.mnwarriors.com</span></a>\; for info regarding MN NHL Alumni visit <a href="http://cityofrogers.us2.list-manage1.com/track/click?u=5d64a50795b75ad3ed3f9fe1c&amp\;id=4901674a30&amp\;e=0324325e4f"><span style="color:#336699\;">www.mnnhlalumni.com</span></a>. </span></span></span><br />\n<br />\n&nbsp\;
LOCATION:Rogers Activity Center 21080 141st Ave N Rogers\, MN 55437
UID:e.1321.2516
SEQUENCE:3
DTSTAMP:20260421T184030Z
URL:https://business.i94westchamber.org/events/details/rock-the-rac-2516
END:VEVENT

END:VCALENDAR
