BEGIN:VCALENDAR
VERSION:2.0
PRODID:-//ChamberMaster//Event Calendar 2.0//EN
METHOD:PUBLISH
X-PUBLISHED-TTL:P3D
REFRESH-INTERVAL:P3D
CALSCALE:GREGORIAN
BEGIN:VEVENT
DTSTART:20150620T170000Z
DTEND:20150620T170000Z
X-MICROSOFT-CDO-ALLDAYEVENT:FALSE
SUMMARY:Rockin Rogers Parade
DESCRIPTION:Join the I-94 Chamber of Commerce in the Parade. Call DJ at the chamber for details. 763-428-2921
X-ALT-DESC;FMTTYPE=text/html:Join the I-94 Chamber of Commerce in the Parade. Call DJ at the chamber for details. 763-428-2921
LOCATION:
UID:e.1321.1539
SEQUENCE:3
DTSTAMP:20260422T171506Z
URL:https://business.i94westchamber.org/events/details/rockin-rogers-parade-06-20-2015-1539
END:VEVENT

END:VCALENDAR
