BEGIN:VCALENDAR
VERSION:2.0
PRODID:-//ChamberMaster//Event Calendar 2.0//EN
METHOD:PUBLISH
X-PUBLISHED-TTL:P3D
REFRESH-INTERVAL:P3D
CALSCALE:GREGORIAN
BEGIN:VEVENT
DTSTART:20161008T200000Z
DTEND:20161009T040000Z
X-MICROSOFT-CDO-ALLDAYEVENT:FALSE
SUMMARY:Rocktoberfest 2016
DESCRIPTION:Celebrating 135 years of Rockford history.\n\nFree Outdoor Concert with Shane Martin\, Kat Perkins.
X-ALT-DESC;FMTTYPE=text/html:Celebrating 135 years of Rockford history.<br />\nFree Outdoor Concert with Shane Martin\, Kat Perkins.
LOCATION:Riverside Park\, Rockford
UID:e.1321.2464
SEQUENCE:3
DTSTAMP:20260421T185459Z
URL:https://business.i94westchamber.org/events/details/rocktoberfest-2016-2464
END:VEVENT

END:VCALENDAR
