BEGIN:VCALENDAR
VERSION:2.0
PRODID:-//ChamberMaster//Event Calendar 2.0//EN
METHOD:PUBLISH
X-PUBLISHED-TTL:P3D
REFRESH-INTERVAL:P3D
CALSCALE:GREGORIAN
BEGIN:VEVENT
DTSTART:20150508T000000Z
DTEND:20150508T010000Z
X-MICROSOFT-CDO-ALLDAYEVENT:FALSE
SUMMARY:Rogers Area Community Prayer Gathering
DESCRIPTION:The Rogers Area Community Prayer Gathering is open to all and is a free event.  It is facilitated by the Rogers area clergy and is the second such event in Rogers.  This is the 64th consecutive recognition of this special day.  As an annual event established by an act of Congress\, the National Day of Prayer encourages all Americans to pray for our nation\, its people and its leaders.\n\n \n\nIn the event that you are unable to attend our National Day of Prayer event in Rogers\, we would ask you to pray for us and our community\, our state and national government for the blessings of God to abide in us and abound to us.
X-ALT-DESC;FMTTYPE=text/html:The Rogers Area Community Prayer Gathering is open to all and is a free event.&nbsp\; It is facilitated by the Rogers area clergy and is the second such event in Rogers.&nbsp\; This is the 64th consecutive recognition of this special day.&nbsp\; As an annual event established by an act of Congress\, the National Day of Prayer encourages all Americans to pray for our nation\, its people and its leaders.<br />\n&nbsp\;<br />\nIn the event that you are unable to attend our National Day of Prayer event in Rogers\, we would ask you to pray for us and our community\, our state and national government for the blessings of God to abide in us and abound to us.
LOCATION:Rogers Elementary Gym\, located at 12521 Main Street in Rogers\, just south of I-94 and Hwy 101 interchange.
UID:e.1321.1533
SEQUENCE:3
DTSTAMP:20260422T183651Z
URL:https://business.i94westchamber.org/events/details/rogers-area-community-prayer-gathering-05-07-2015-1533
END:VEVENT

END:VCALENDAR
