BEGIN:VCALENDAR
VERSION:2.0
PRODID:-//ChamberMaster//Event Calendar 2.0//EN
METHOD:PUBLISH
X-PUBLISHED-TTL:P3D
REFRESH-INTERVAL:P3D
CALSCALE:GREGORIAN
BEGIN:VEVENT
DTSTART:20160823T150000Z
DTEND:20160823T190000Z
X-MICROSOFT-CDO-ALLDAYEVENT:FALSE
SUMMARY:Rogers Job Fair at I94West Chamber of Commerce
DESCRIPTION:Join Award Staffing at 21370 John Milless Dr\, Rogers\n\n10am-2pm\n\nTuesday\, August 23rd\n\n \n\nOpportunities in the following areas:\n\n\n	Award Commercial Services - skilled and unskilled industrial talent\n	Award Professional Services - administrative\, customer service\, and professional talent\n	Award Hospitality Services - hospitality talent
X-ALT-DESC;FMTTYPE=text/html:<span style="font-size:16px">Join Award Staffing at&nbsp\;21370 John Milless Dr\, Rogers<br />\n10am-2pm<br />\nTuesday\, August 23</span><sup><span style="font-size:16px">rd</span><br />\n&nbsp\;<br />\n<span style="font-size:18px"><strong>Opportunities in the following areas:</strong></span></sup>\n\n<ul>\n	<li><span style="font-size:18px"><strong>Award Commercial Services - skilled and unskilled industrial talent</strong></span></li>\n	<li><span style="font-size:18px"><strong>Award Professional Services - administrative\, customer service\, and professional talent</strong></span></li>\n	<li><span style="font-size:18px"><strong>Award Hospitality Services - hospitality talent</strong></span></li>\n</ul>\n<br />\n&nbsp\;
LOCATION:21370 John Milless Dr\, Rogers
UID:e.1321.2399
SEQUENCE:3
DTSTAMP:20260421T230654Z
URL:https://business.i94westchamber.org/events/details/rogers-job-fair-at-i94west-chamber-of-commerce-08-23-2016-2399
END:VEVENT

END:VCALENDAR
