BEGIN:VCALENDAR
VERSION:2.0
PRODID:-//ChamberMaster//Event Calendar 2.0//EN
METHOD:PUBLISH
X-PUBLISHED-TTL:P3D
REFRESH-INTERVAL:P3D
CALSCALE:GREGORIAN
BEGIN:VEVENT
DTSTART:20170303T230000Z
DTEND:20170304T020000Z
X-MICROSOFT-CDO-ALLDAYEVENT:FALSE
SUMMARY:Rogers Lions Fish Fry
DESCRIPTION:Rogers Lions Fish & Shrimp Fry\n\n\nFriday March 3rd 2017   5:00 p.m. to 8:00 p.m.\n\nAt the Rogers Community Center\n\n21201 Memorial Drive\, Rogers\, MN 55374\n\n\n\n\n\nFish   Shrimp   Fries\n\n\n\n\n\nCash bar and family friendly beverages available.\n\nTell your family\, friends and neighbors or share using the social media links below.\n\n\n\nHOSTED BY THE ROGERS LIONS CLUB\n\nMoney raised goes back in to the community!
X-ALT-DESC;FMTTYPE=text/html:<h2>Rogers Lions Fish &amp\; Shrimp Fry</h2>\n<br />\n<span style="color:#606060\;"><span style="font-family:helvetica\,sans-serif\;"><span style="font-size:11.5pt\;"><strong><span style="font-family:helvetica\,sans-serif\;">Friday March 3rd 2017 &ndash\; 5:00 p.m. to 8:00 p.m.</span></strong><br />\nAt the Rogers Community Center<br />\n21201 Memorial Drive\,&nbsp\;Rogers\, MN 55374<br />\n<br />\n<br />\n<strong><span style="font-family:helvetica\,sans-serif\;">Fish &ndash\; Shrimp &ndash\; Fries</span></strong><br />\n<br />\n<br />\nCash bar and family friendly beverages available.<br />\nTell your family\, friends and neighbors or share using the social media links below.<br />\n<br />\nHOSTED BY THE ROGERS LIONS CLUB<br />\nMoney raised goes back in to the community! </span></span></span>
LOCATION:
UID:e.1321.2908
SEQUENCE:3
DTSTAMP:20260421T113059Z
URL:https://business.i94westchamber.org/events/details/rogers-lions-fish-fry-2908
END:VEVENT

END:VCALENDAR
