BEGIN:VCALENDAR
VERSION:2.0
PRODID:-//ChamberMaster//Event Calendar 2.0//EN
METHOD:PUBLISH
X-PUBLISHED-TTL:P3D
REFRESH-INTERVAL:P3D
CALSCALE:GREGORIAN
BEGIN:VEVENT
DTSTART:20141011T170000Z
DTEND:20141011T210000Z
X-MICROSOFT-CDO-ALLDAYEVENT:FALSE
SUMMARY:Rogers Police Department Open House
DESCRIPTION:Open house is scheduled for October 11 from noon to 4pm. There will be a dedication of the building and flag raising ceremony at 1pm.
X-ALT-DESC;FMTTYPE=text/html:Open house is scheduled for October 11 from noon to 4pm. There will be a dedication of the building and flag raising ceremony at 1pm.
LOCATION:21860 Industrial Court\, Rogers\, MN 55374
UID:e.1321.1233
SEQUENCE:3
DTSTAMP:20260424T154319Z
URL:https://business.i94westchamber.org/events/details/rogers-police-department-open-house-10-11-2014-1233
END:VEVENT

END:VCALENDAR
