BEGIN:VCALENDAR
VERSION:2.0
PRODID:-//ChamberMaster//Event Calendar 2.0//EN
METHOD:PUBLISH
X-PUBLISHED-TTL:P3D
REFRESH-INTERVAL:P3D
CALSCALE:GREGORIAN
BEGIN:VEVENT
DTSTART:20160930T140000Z
DTEND:20160930T230000Z
X-MICROSOFT-CDO-ALLDAYEVENT:FALSE
SUMMARY:Rummage Sale
DESCRIPTION:RUMMAGE\, craft and food SALE\n\n2017 GUATEMALA MISSION TRIP FUNDRAISER\n\nIMMANUEL UNITED METHODIST CHURCH\n\n10025 County Road 101 - Corcoran\n\nThursday\, Sept. 29 from 9AM   8PM\n\nFriday\, Sept. 30 from 9AM   6PM\n\nSaturday\, Oct. 1 from 9AM to Noon
X-ALT-DESC;FMTTYPE=text/html:<span style="color:black\;">RUMMAGE\, craft and food SALE</span><br />\n<span style="color:black\;">2017 GUATEMALA MISSION TRIP FUNDRAISER</span><br />\n<span style="color:black\;">IMMANUEL UNITED METHODIST CHURCH</span><br />\n<span style="color:black\;">10025 County Road 101 - Corcoran</span><br />\n<span style="color:black\;">Thursday\, Sept. 29 from 9AM &ndash\; 8PM</span><br />\n<span style="color:black\;">Friday\, Sept. 30 from 9AM &ndash\; 6PM</span><br />\n<span style="color:black\;">Saturday\, Oct. 1 from 9AM to Noon</span>
LOCATION:IMMANUEL UNITED METHODIST CHURCH 10025 County Road 101 - Corcoran
UID:e.1321.2428
SEQUENCE:3
DTSTAMP:20260421T200132Z
URL:https://business.i94westchamber.org/events/details/rummage-sale-2428
END:VEVENT

END:VCALENDAR
