BEGIN:VCALENDAR
VERSION:2.0
PRODID:-//ChamberMaster//Event Calendar 2.0//EN
METHOD:PUBLISH
X-PUBLISHED-TTL:P3D
REFRESH-INTERVAL:P3D
CALSCALE:GREGORIAN
BEGIN:VEVENT
DTSTART:20170429T140000Z
DTEND:20170429T170000Z
X-MICROSOFT-CDO-ALLDAYEVENT:FALSE
SUMMARY:Rummage Sale
DESCRIPTION:Huge Rummage Sale\n\nThursday\, April 27\, 9 - 8 PM\n\nFriday\,     April 28\, 9 - 6 PM\n\nSaturday\, April 29\, 9 - 12 Noon\n\n \n\nImmanuel United Methodist Church\n\n10025 Cty Rd 101 (Brockton Ln N)\n\nwww.immanuelumc.church\n\n763-420-2585\n\n\n\nProceeds to Guatamala Mission Trip
X-ALT-DESC;FMTTYPE=text/html:<u>Huge Rummage Sale</u><br />\nThursday\, April 27\, 9 - 8 PM<br />\nFriday\, &nbsp\; &nbsp\; April 28\, 9 - 6 PM<br />\nSaturday\, April 29\, 9 - 12 Noon<br />\n&nbsp\;<br />\nImmanuel United Methodist Church<br />\n10025 Cty Rd 101 (Brockton Ln N)<br />\n<a href="http://www.immanuelumc.church">www.immanuelumc.church</a><br />\n763-420-2585<br />\n<br />\nProceeds to Guatamala Mission Trip<br />\n&nbsp\;
LOCATION:
UID:e.1321.2969
SEQUENCE:3
DTSTAMP:20260421T112812Z
URL:https://business.i94westchamber.org/events/details/rummage-sale-2969
END:VEVENT

END:VCALENDAR
