BEGIN:VCALENDAR
VERSION:2.0
PRODID:-//ChamberMaster//Event Calendar 2.0//EN
METHOD:PUBLISH
X-PUBLISHED-TTL:P3D
REFRESH-INTERVAL:P3D
CALSCALE:GREGORIAN
BEGIN:VEVENT
DTSTART:20150822T133000Z
DTEND:20150822T173000Z
X-MICROSOFT-CDO-ALLDAYEVENT:FALSE
SUMMARY:Running For Justice 3rd Annual 5k Fun Run/Walk
DESCRIPTION:This is a 5k to bring awareness of human sex trafficking in our communities/region and to raise funds.At least 10% will go to DTN Ministries\, who works to fight human sex trafficking in Thailand\; the rest will go to bringing awareness in Elk River and the surrounding communities/region. One thing on the agenda is a 1 day conference in Elk River to bring awareness of human sex trafficking. We are waiting to get a date booked for the venue we'd like to use. Even though this is a serious issue\, we have a lot of fun at the 5k! This event is for singles or families! Kids under 12 run FREE with a paid registered adult. Website will be open for registration the first part of April.
X-ALT-DESC;FMTTYPE=text/html:This is a 5k to bring awareness of human sex trafficking in our communities/region and to raise funds.At least 10% will go to DTN Ministries\, who works to fight human sex trafficking in Thailand\; the rest will go to bringing awareness in Elk River and the surrounding communities/region. One thing on the agenda is a 1 day conference in Elk River to bring awareness of human sex trafficking. We are waiting to get a date booked for the venue we&#39\;d like to use. Even though this is a serious issue\, we have a lot of fun at the 5k! This event is for singles or families! Kids under 12 run FREE with a paid registered adult. Website will be open for registration the first part of April.
LOCATION:Woodland Trails Park 20135 Elk Lake Rd Elk River\, MN. 55330
UID:e.1321.1507
SEQUENCE:3
DTSTAMP:20260422T141802Z
URL:https://business.i94westchamber.org/events/details/running-for-justice-3rd-annual-5k-fun-run-walk-08-22-2015-1507
END:VEVENT

END:VCALENDAR
