BEGIN:VCALENDAR
VERSION:2.0
PRODID:-//ChamberMaster//Event Calendar 2.0//EN
METHOD:PUBLISH
X-PUBLISHED-TTL:P3D
REFRESH-INTERVAL:P3D
CALSCALE:GREGORIAN
BEGIN:VEVENT
DTSTART:20161128T230000Z
DTEND:20161129T020000Z
X-MICROSOFT-CDO-ALLDAYEVENT:FALSE
SUMMARY:Salon Adagio - Holiday Extravaganza
DESCRIPTION:Join us for our Holiday Extravaganza on November 28th!\n\n\n\nFREE Services!\n\n* Paraffin Dips (value $8.00)\n\n* Makeup Touch-ups (value $15.00)\n\n* Chair Massage (value $15.00)\n\n* EYEBROW WAXING!!!! (value $20.00)\n\n\n\nAMAZING DISCOUNTS!\n\n* 25% OFF ALL Redken\, Pureology\, OPI\, Hempz\, Essential Oils\,\n\nStyling Tools\, Brushes & Milkhouse Creamery Candles!\n\n* Buy $100 in TWIST Stocking Stuffers\, receive an Itsy Tote FREE\n\n* Buy $100 in Gift Cards\, receive a $20 Service Card FREE!\n\n* Spa-Li-Day Packages starting at ONLY $49.00!!!\n\n\n\nBring-A-Friend!\n\n* Bring along a friend who is NEW to Salon Adagio and you BOTH\n\nwill receive a voucher for FREE EXPRESS PEDICURES!\n\n\n\nHoliday CHEER!\n\n* Enjoy complimentary tasty appetizers and cheery drinks!\n\n* Perfect for a GIRLS NIGHT or Holiday Shopping SPREE!
X-ALT-DESC;FMTTYPE=text/html:<span class="_4n-j fsl">Join us for our Holiday Extravaganza on November 28th!<br />\n<br />\nFREE Services!<br />\n* Paraffin Dips (value $8.00)<br />\n* Makeup Touch-ups (value $15.00)<br />\n* Chair Massage (value $15.00)<br />\n* EYEBROW WAXING!!!! (value $20.00)<br />\n<br />\nAMAZING DISCOUNTS!<br />\n* 25% OFF ALL Redken\, Pureology\, OPI\, Hempz\, Essential Oils\,<br />\nStyling Tools\, Brushes &amp\; Milkhouse Creamery Candles!<br />\n* Buy $100 in TWIST Stocking Stuffers\, receive an Itsy Tote FREE<br />\n<span class="text_exposed_show">* Buy $100 in Gift Cards\, receive a $20 Service Card FREE!<br />\n* Spa-Li-Day Packages starting at ONLY $49.00!!!<br />\n<br />\nBring-A-Friend!<br />\n* Bring along a friend who is NEW to Salon Adagio and you BOTH<br />\nwill receive a voucher for FREE EXPRESS PEDICURES!<br />\n<br />\nHoliday CHEER!<br />\n* Enjoy complimentary tasty appetizers and cheery drinks!<br />\n* Perfect for a GIRLS NIGHT or Holiday Shopping SPREE!</span></span>
LOCATION:
UID:e.1321.2510
SEQUENCE:3
DTSTAMP:20260421T173138Z
URL:https://business.i94westchamber.org/events/details/salon-adagio-holiday-extravaganza-2510
END:VEVENT

END:VCALENDAR
