BEGIN:VCALENDAR
VERSION:2.0
PRODID:-//ChamberMaster//Event Calendar 2.0//EN
METHOD:PUBLISH
X-PUBLISHED-TTL:P3D
REFRESH-INTERVAL:P3D
CALSCALE:GREGORIAN
BEGIN:VEVENT
DTSTART:20161211T170000Z
DTEND:20161211T210000Z
X-MICROSOFT-CDO-ALLDAYEVENT:FALSE
SUMMARY:Santa at Kremer's Toy & Hobby
DESCRIPTION:
X-ALT-DESC;FMTTYPE=text/html:
LOCATION:
UID:e.1321.2577
SEQUENCE:3
DTSTAMP:20260421T155715Z
URL:https://business.i94westchamber.org/events/details/santa-at-kremer-s-toy-hobby-2577
END:VEVENT

END:VCALENDAR
