BEGIN:VCALENDAR
VERSION:2.0
PRODID:-//ChamberMaster//Event Calendar 2.0//EN
METHOD:PUBLISH
X-PUBLISHED-TTL:P3D
REFRESH-INTERVAL:P3D
CALSCALE:GREGORIAN
BEGIN:VEVENT
DTSTART:20141220T170000Z
DTEND:20141220T200000Z
X-MICROSOFT-CDO-ALLDAYEVENT:FALSE
SUMMARY:Santa Makes a Special Stop at Albertville Premium Outlets
DESCRIPTION:Did Santa get his dates mixed up? Or is Albertville just his favorite place in the world?! Before his worldwide tour officially kicks off on Christmas Eve\, Santa is making a very special stop at Albertville Premium Outlets - Promenade Lot\, along with a few of his real\, actual reindeer! Not only will some of his most famous companions be joining him\, they'll be available for an affectionate pet\, and Santa's elves will be holding a teddy bear giveaway and handing out goodie bags!
X-ALT-DESC;FMTTYPE=text/html:Did Santa get his dates mixed up? Or is Albertville just his favorite place in the world?! Before his worldwide tour officially kicks off on Christmas Eve\, Santa is making a very special stop at Albertville Premium Outlets - Promenade Lot\, along with a few of his real\, actual reindeer! Not only will some of his most famous companions be joining him\, they&#39\;ll be available for an affectionate pet\, and Santa&#39\;s elves will be holding a teddy bear giveaway and handing out goodie bags!
LOCATION:Promenade Lot at Albertville Premium Outlets 6415 Labeaux Avenue Northeast Albertville\, MN 55301
UID:e.1321.1367
SEQUENCE:3
DTSTAMP:20260424T125505Z
URL:https://business.i94westchamber.org/events/details/santa-makes-a-special-stop-at-albertville-premium-outlets-12-20-2014-1367
END:VEVENT

END:VCALENDAR
