BEGIN:VCALENDAR
VERSION:2.0
PRODID:-//ChamberMaster//Event Calendar 2.0//EN
METHOD:PUBLISH
X-PUBLISHED-TTL:P3D
REFRESH-INTERVAL:P3D
CALSCALE:GREGORIAN
BEGIN:VEVENT
DTSTART:20150507T150000Z
DTEND:20150507T160000Z
X-MICROSOFT-CDO-ALLDAYEVENT:FALSE
SUMMARY:Senior Surf Day
DESCRIPTION:Learn computer basics\, how to navigate and search the Internet and how to access websites of interest to seniors. Get hands-on computer experience with help from representatives of the Senior LinkAge Line .
X-ALT-DESC;FMTTYPE=text/html:Learn computer basics\, how to navigate and search the Internet and how to access websites of interest to seniors. Get hands-on computer experience with help from representatives of the Senior LinkAge Line<sup>&reg\;</sup>.
LOCATION:Rogers Library 21300 John Milless Dr. Rogers\, MN 55374
UID:e.1321.1487
SEQUENCE:3
DTSTAMP:20260422T183512Z
URL:https://business.i94westchamber.org/events/details/senior-surf-day-05-07-2015-1487
END:VEVENT

END:VCALENDAR
