BEGIN:VCALENDAR
VERSION:2.0
PRODID:-//ChamberMaster//Event Calendar 2.0//EN
METHOD:PUBLISH
X-PUBLISHED-TTL:P3D
REFRESH-INTERVAL:P3D
CALSCALE:GREGORIAN
BEGIN:VEVENT
DTSTART:20170520T150000Z
DTEND:20170520T210000Z
X-MICROSOFT-CDO-ALLDAYEVENT:FALSE
SUMMARY:Sidewalk Sale - St. Michael Boutique
DESCRIPTION:
X-ALT-DESC;FMTTYPE=text/html:
LOCATION:St. Michael Boutique (Colonial Mall) 403 Central Ave Suite 106 (we have our own back entrance or enter near Post Office and follow signs to the back of the mall) Saint Michael\, Minnesota\, MN 55376
UID:e.1321.3001
SEQUENCE:3
DTSTAMP:20260421T083725Z
URL:https://business.i94westchamber.org/events/details/sidewalk-sale-st-michael-boutique-3001
END:VEVENT

END:VCALENDAR
