BEGIN:VCALENDAR
VERSION:2.0
PRODID:-//ChamberMaster//Event Calendar 2.0//EN
METHOD:PUBLISH
X-PUBLISHED-TTL:P3D
REFRESH-INTERVAL:P3D
CALSCALE:GREGORIAN
BEGIN:VEVENT
DTSTART:20161218T210000Z
DTEND:20161218T230000Z
X-MICROSOFT-CDO-ALLDAYEVENT:FALSE
SUMMARY:Skate with Santa & Kids Carnival
DESCRIPTION:Skate with Santa & Kids Carnival\n									Skate with Santa and Kids Carnival is this coming this Sunday\, December 18th. \n\n									You don't want to miss it - free carnival games upstairs at the RAC\, coloring sheets\, Santa letters\, balloon twister\, prizes\, and just plain fun. \n\n									Santa will join us around 3:30pm for picture opportunities and then join him on-ice during our open skate from 4:00 - 5:30pm. \n\n									\n										Carnival games: 3:00   5:00pm  / Free\n										Skate w Santa Open Skate:  4:00   5:30pm / $4 per skater\, ages 5 and under free\n										Rental skates available:  Sizes 6-7 Toddler   Adult 13 / $2 pair\n										Bike helmets and skate aides are also available for rent for $1 each\n										Rogers Activity Center (RAC)   21080 141st Ave\, Rogers\n									\n									Questions\, please call 763-428-0975 or 763-428-1033.
X-ALT-DESC;FMTTYPE=text/html:<table border="0" cellpadding="0" cellspacing="0" style="width:400px\;" width="400">\n	<tbody>\n		<tr>\n			<td style="padding:0in 0in 0in 0in\;vertical-align:top\;">\n			<table border="0" cellpadding="0" cellspacing="0" style="width:400px\;" width="400">\n				<tbody>\n					<tr>\n						<td style="background:white\;padding:0in 0in 0in 0in\;vertical-align:top\;">\n						<table border="0" cellpadding="0" cellspacing="0" style="width:100.0%\;" width="100%">\n							<tbody>\n								<tr>\n									<td style="padding:15.0pt 15.0pt 15.0pt 15.0pt\;vertical-align:top\;">&nbsp\;\n									<h4 align="center" style="text-align:center\;"><strong><span style="font-family:arial\,sans-serif\;">Skate with Santa &amp\; Kids Carnival</span></strong></h4>\n									<span style="color:#505050\;"><span style="font-family:arial\,sans-serif\;"><span style="font-size:10.5pt\;">Skate with Santa and&nbsp\;Kids Carnival is this coming this Sunday\, December 18th.&nbsp\;<br />\n									You don&rsquo\;t want to miss it -&nbsp\;free carnival games upstairs at the RAC\, coloring sheets\, Santa letters\, balloon twister\, prizes\, and just plain fun.&nbsp\;<br />\n									Santa will join us around 3:30pm for picture opportunities and then join him on-ice during our open skate from 4:00 - 5:30pm.&nbsp\;</span></span></span>\n\n									<ul>\n										<li style="color:#505050\;line-height:150%\;"><span style="font-family:arial\,sans-serif\;"><span style="font-size:10.5pt\;">Carnival games: 3:00 &ndash\; 5:00pm&nbsp\; / Free</span></span></li>\n										<li style="color:#505050\;line-height:150%\;"><span style="font-family:arial\,sans-serif\;"><span style="font-size:10.5pt\;">Skate w Santa Open Skate:&nbsp\; 4:00 &ndash\; 5:30pm / $4 per skater\, ages 5 and under free</span></span></li>\n										<li style="color:#505050\;line-height:150%\;"><span style="font-family:arial\,sans-serif\;"><span style="font-size:10.5pt\;">Rental skates available:&nbsp\; Sizes 6-7 Toddler &ndash\; Adult 13 / $2 pair</span></span></li>\n										<li style="color:#505050\;line-height:150%\;"><span style="font-family:arial\,sans-serif\;"><span style="font-size:10.5pt\;">Bike helmets and skate aides are also available for rent for $1 each</span></span></li>\n										<li style="color:#505050\;line-height:150%\;"><span style="font-family:arial\,sans-serif\;"><span style="font-size:10.5pt\;">Rogers Activity Center (RAC) &ndash\; 21080 141st Ave\, Rogers</span></span></li>\n									</ul>\n									<span style="color:#505050\;"><span style="font-family:arial\,sans-serif\;"><span style="font-size:10.5pt\;">Questions\, please call 763-428-0975 or 763-428-1033.<br />\n									&nbsp\;</span></span></span></td>\n								</tr>\n							</tbody>\n						</table>\n						</td>\n					</tr>\n				</tbody>\n			</table>\n			</td>\n		</tr>\n		<tr>\n			<td style="padding:0in 0in 0in 0in\;vertical-align:top\;">\n			<table border="0" cellpadding="0" cellspacing="0" style="width:400px\;" width="400">\n				<tbody>\n					<tr>\n						<td style="width:180px\;background:white\;padding:0in 0in 0in 0in\;vertical-align:top\;">\n						<table border="0" cellpadding="0" cellspacing="0" style="width:100.0%\;border-collapse:collapse\;" width="100%">\n							<tbody>\n								<tr>\n									<td style="padding:15.0pt 15.0pt 15.0pt 15.0pt\;">&nbsp\;</td>\n								</tr>\n							</tbody>\n						</table>\n						</td>\n						<td style="width:180px\;background:white\;padding:0in 0in 0in 0in\;vertical-align:top\;">\n						<table border="0" cellpadding="0" cellspacing="0" style="width:100.0%\;border-collapse:collapse\;" width="100%">\n							<tbody>\n								<tr>\n									<td style="padding:15.0pt 15.0pt 15.0pt 15.0pt\;">&nbsp\;</td>\n								</tr>\n							</tbody>\n						</table>\n						</td>\n					</tr>\n				</tbody>\n			</table>\n			</td>\n		</tr>\n	</tbody>\n</table>\n
LOCATION:
UID:e.1321.2588
SEQUENCE:3
DTSTAMP:20260421T155648Z
URL:https://business.i94westchamber.org/events/details/skate-with-santa-kids-carnival-2588
END:VEVENT

END:VCALENDAR
