BEGIN:VCALENDAR
VERSION:2.0
PRODID:-//ChamberMaster//Event Calendar 2.0//EN
METHOD:PUBLISH
X-PUBLISHED-TTL:P3D
REFRESH-INTERVAL:P3D
CALSCALE:GREGORIAN
BEGIN:VEVENT
DTSTART:20191229T180000Z
DTEND:20191229T210000Z
X-MICROSOFT-CDO-ALLDAYEVENT:FALSE
SUMMARY:Snowed In - A Holiday Celebration of Song
DESCRIPTION:"SNOWED IN"- A HOLIDAY CELEBRATION OF SONG\n\nJoin us this winter along with six funny and talented performers who will get you in the spirit of the holidays with Bunker Hills' Dinner Theater performance\, Snowed In! Six friends spend an evening stranded in a lodge and while looking for something to do they discover boxes of records reminding them of all their favorite holiday tunes. From songs of yesteryear to today's new classics the six friends bring the music to life with a four piece jazz band and two fabulous singers. Hum along to your favorites from White Christmas to Santa Baby and save some energy for a dancing interlude during the intermission.  \n\nBUY TICKETS\n\n \n\nDay Of Tickets - We may still have availability to purchase tickets at the box office on the day of a show. Please call (763) 951-7244 to learn of availability.\n\nSnowed In-A Holiday Celebration of Songs will be at Bunker Hills Event Center December 20th -22nd and 26th-29th\, 2019.  Buy dinner theater tickets online or at Bunker Hills Golf Club. After purchasing a ticket online\, you will receive an email with details of your purchase\, which will act as your ticket for the theater and dinner. Seating will be determined based on availability and group size by Bunker Hills Event Center Management.\n\nCall us at (763) 951-7244 for more information.\n\n\n\n \n\n+\n\n\n\n-\nSHOW DETAILS & BOX OFFICE\n\n \nShow Details\n\n\n	Show Dates:  December 20th\, 21st\, 22nd\, 26th\, 27th\, 28th\, 29th.\n	Show Only Tickets are not available.\n	Dinner service begins 2 hours before show time. Please arrive in advance of show time for dinner.\n	Matinee service begins 90 minutes before show time.  \n	Friday and Saturday Dinner Performances with 7:30 pm show time.\n	Saturday\, Dec. 21st\, and Sunday\, Dec. 29th\, matinee performances with 12:00 pm doors and 1:30 pm show time.\n	Sunday Dinner Performances with 4:30 pm doors and 6:30 pm show time.\n	Dinner Theater pricing includes coat check\, three-course  dinner and show.\n	Service charge\, per ticket processing fee and applicable taxes not included.\n	Performances and prices are subject to change.\n	Tickets are non-refundable and non-exchangeable.\n	All sales are final.\n\n\nBox Office\n\n\n	Hours: Monday thru Friday from 1pm to 5pm and on show days from 8am to 8pm\n	(763) 951-7244\n	Location: Bunker Hills Event Center - 12800 Bunker Prairie Rd NW Coon Rapids\, MN 55448\n\n\nDinner Theatre Seating\n\nBunker Hills Dinner Theatre seats 246 people. All tables seat six to eight people. Based on availability we may be able to accommodate parties larger than eight together at one table. Please call the Bunker Hills Box Office to request special accommodations for groups larger than eight people. \n\nBunker Hills Event Center will assign seating based on purchase date in an effort to maximize the guest experience and seating for each performance. Seating will be assigned from the front row back\, starting center stage and then working outward\, table by table and row by row as the tables are filled. Parties of less than eight may share a table with other guests. Seating assignments will be available at check-in onsite the day of the show. \n\nDinner Service\n\nDinner seating time is 2 hours prior to the performance.  Dinner is served prior to the start of the performance. Bar service will be available throughout the dinner and intermission. There is no dining room service during the production.\n\nMatinee Service\n\nMatinee seating time is 90 minutes prior to the performance.  Dinner is served prior to the start of the performance. Bar service will be available throughout the dinner and intermission. There is no dining room service during the production.\n\n\n\nMenu - \n\nEntr e Selections are served with Freshly Baked Bread\, Mixed Green Salad with Ranch Dressing\, Garlic Mashed Potatoes\, Vegetable Medley\, and a Holiday Dessert.\n\nAppetizers and Beverages are not included.\n\nEntr e Selection (Select with Ticket Purchase During Checkout)\n\nChicken Soubise:  Pan seared Chicken Breast with Gruyere cheese and a Caramelized Onion Cream Sauce\n\nBoneless Short Ribs with Blackberry Brandy Demi-glace\n\nGrilled Salmon with Dill Butter   \n\nVegetarian:  Saffron Balsamic Grilled Vegetables:  Marinated and grilled red\, yellow and green bell peppers\, asparagus\, yellow squash\, red onions\, roma tomatoes and portobello mushrooms served on a bed of saffron rice and drizzled with balsamic syrup\n\nChildren's Entr e:   Crispy Chicken Tenders served with Honey Mustard Dipping Sauce and Fries (Available for children under the age of 12)\n\nIf you have any special dietary concerns we will do our best to accommodate with advanced notice. Please contact us at (763) 951-7244 if you have questions.\n\nPlease note dinner seating time is 2 hours prior to the performance.  Matinee seating is 90 minutes prior to the performance \n\nAdditions\n\n\n	Appetizers\, Cocktails\, Martinis\, Beer\, Wine\, Soda and Milk Available for Purchase\n\n\nParking\n\nComplimentary parking is available on site.\n\nRun Time\n\nSnowed In-A holiday celebration of Songs is currently 90 minutes long including a 30-minute interlude for dancing.\n\nAge Requirements\n\nHoliday Theater is not recommended for children under 8 years of age.
X-ALT-DESC;FMTTYPE=text/html:<div class="richtext" style="box-sizing: border-box\; color: rgb(47\, 47\, 47)\; font-family: &quot\;Helvetica Neue&quot\;\, Helvetica\, Arial\, sans-serif\; font-size: 16px\; letter-spacing: 0.8px\;">\n<h2 class="text-center" style="box-sizing: border-box\; line-height: 1.1\; color: inherit\; margin-top: 20px\; margin-bottom: 15px\; font-size: 30px\; text-transform: uppercase\; letter-spacing: 3px\; text-align: center\;">&quot\;SNOWED IN&quot\;- A HOLIDAY CELEBRATION OF SONG</h2>\n\n<p style="box-sizing: border-box\; margin: 0px 0px 24px\; line-height: 2em\;">Join us this winter along with six funny and talented performers who will get you in the spirit of the holidays with Bunker Hills&rsquo\; Dinner Theater performance\, Snowed In!&nbsp\;Six friends spend an evening stranded in a lodge and while looking for something to do they discover boxes of records reminding them of all their favorite holiday tunes. From songs of yesteryear to today&#39\;s new classics the six friends bring the music to life with a four piece jazz band and two fabulous singers. Hum along to your favorites from White Christmas to Santa Baby and save some energy for a dancing interlude during the intermission.&nbsp\;&nbsp\;</p>\n\n<p style="box-sizing: border-box\; margin: 0px 0px 24px\; line-height: 2em\; text-align: center\;"><a class="bh-button bh-button-green fadeitout" href="https://www.kendallstc.com/checkout/product/4795" id="purchase-button" style="box-sizing: border-box\; background-color: rgb(88\, 141\, 50)\; color: rgb(255\, 255\, 255)\; text-decoration-line: none\; display: inline-block\; font-size: 15px\; letter-spacing: 1.5px\; text-transform: uppercase\; transition: all 0.35s ease 0s\; background-image: none\; border-radius: 30px\; cursor: pointer\; line-height: normal\; padding: 14px 50px\;">BUY TICKETS</a></p>\n\n<p class="text-center" style="box-sizing: border-box\; margin: 0px 0px 24px\; line-height: 2em\; text-align: center\;">&nbsp\;</p>\n\n<p class="text-center" style="box-sizing: border-box\; margin: 0px 0px 24px\; line-height: 2em\; text-align: center\;"><span style="box-sizing: border-box\; font-weight: 700\;">Day Of Tickets</span>&nbsp\;- We may still have availability to purchase tickets at the box office on the day of a show. Please call&nbsp\;(763) 951-7244 to learn of availability.</p>\n\n<p class="text-center" style="box-sizing: border-box\; margin: 0px 0px 24px\; line-height: 2em\; text-align: center\;">Snowed In-A Holiday Celebration of Songs will be at Bunker&nbsp\;Hills Event Center December 20th -22nd and 26th-29th\, 2019.&nbsp\; Buy dinner theater tickets online&nbsp\;or at Bunker Hills Golf Club. After purchasing a ticket online\, you will receive an email with details of your purchase\, which will act as your ticket for the theater and dinner. Seating will be determined based on availability and group size by Bunker Hills Event Center Management.</p>\n\n<p class="text-center" style="box-sizing: border-box\; margin: 0px 0px 24px\; line-height: 2em\; text-align: center\;">Call us at (763) 951-7244 for more information.</p>\n</div>\n\n<div class="textpander" id="component_1006" style="box-sizing: border-box\; color: rgb(47\, 47\, 47)\; font-family: &quot\;Helvetica Neue&quot\;\, Helvetica\, Arial\, sans-serif\; font-size: 16px\; letter-spacing: 0.8px\;">\n<h3 class="headline" style="box-sizing: border-box\; line-height: 1.1\; color: rgb(43\, 114\, 173)\; margin-top: 0px\; margin-bottom: 0px\; font-size: 29px\; text-transform: uppercase\; letter-spacing: 3px\; padding: 0.5em 0pt 0pt\; cursor: pointer\;">&nbsp\;</h3>\n\n<div class="toggle" style="box-sizing: border-box\; float: left\; margin-right: 7px\; position: relative\; top: 6px\;"><span class="open" style="box-sizing: border-box\; display: block\; width: 18px\; height: 18px\; text-indent: -1000px\; overflow: hidden\; background: url(&quot\;../images/textpander_toggle.png&quot\;) left top no-repeat\;">+</span></div>\n</div>\n\n<div class="textpander" id="component_2006" style="box-sizing: border-box\; color: rgb(47\, 47\, 47)\; font-family: &quot\;Helvetica Neue&quot\;\, Helvetica\, Arial\, sans-serif\; font-size: 16px\; letter-spacing: 0.8px\;">\n<div class="toggle" style="box-sizing: border-box\; float: left\; margin-right: 7px\; position: relative\; top: 6px\;"><span class="closed" style="box-sizing: border-box\; display: block\; width: 18px\; height: 18px\; text-indent: -1000px\; overflow: hidden\; background: url(&quot\;../images/textpander_toggle.png&quot\;) 0px -18px no-repeat\;">-</span></div>\nSHOW DETAILS &amp\; BOX OFFICE\n\n<div class="content" style="box-sizing: border-box\; float: left\; clear: left\;">&nbsp\;\n<p style="box-sizing: border-box\; margin: 0px 0px 24px\; line-height: 2em\;">Show Details</p>\n\n<ul style="box-sizing: border-box\; margin-top: 0px\; margin-bottom: 10px\;">\n	<li style="box-sizing: border-box\;">Show Dates:&nbsp\; December 20th\, 21st\, 22nd\, 26th\, 27th\, 28th\, 29th.</li>\n	<li style="box-sizing: border-box\;">Show Only Tickets are not available.</li>\n	<li style="box-sizing: border-box\;">Dinner service begins 2 hours before show time. Please arrive in advance of show time for dinner.</li>\n	<li style="box-sizing: border-box\;">Matinee service begins 90 minutes before show time.&nbsp\;&nbsp\;</li>\n	<li style="box-sizing: border-box\;">Friday and Saturday Dinner Performances with 7:30 pm show time.</li>\n	<li style="box-sizing: border-box\;">Saturday\, Dec. 21st\,&nbsp\;and Sunday\, Dec. 29th\,&nbsp\;matinee performances with 12:00 pm doors and 1:30 pm show time.</li>\n	<li style="box-sizing: border-box\;">Sunday Dinner Performances with 4:30 pm doors and 6:30 pm show time.</li>\n	<li style="box-sizing: border-box\;">Dinner Theater pricing includes coat check\, three-course&nbsp\; dinner and&nbsp\;show.</li>\n	<li style="box-sizing: border-box\;">Service charge\, per ticket processing fee and applicable taxes not included.</li>\n	<li style="box-sizing: border-box\;">Performances and prices are subject to change.</li>\n	<li style="box-sizing: border-box\;">Tickets are non-refundable and non-exchangeable.</li>\n	<li style="box-sizing: border-box\;">All sales are final.</li>\n</ul>\n\n<p style="box-sizing: border-box\; margin: 0px 0px 24px\; line-height: 2em\;">Box Office</p>\n\n<ul style="box-sizing: border-box\; margin-top: 0px\; margin-bottom: 10px\;">\n	<li style="box-sizing: border-box\;">Hours: Monday thru Friday from 1pm to 5pm and on show days from 8am to 8pm</li>\n	<li style="box-sizing: border-box\;">(763) 951-7244</li>\n	<li style="box-sizing: border-box\;">Location: Bunker Hills Event Center - 12800 Bunker Prairie Rd NW Coon Rapids\, MN 55448</li>\n</ul>\n\n<p style="box-sizing: border-box\; margin: 0px 0px 24px\; line-height: 2em\;">Dinner Theatre Seating</p>\n\n<p style="box-sizing: border-box\; margin: 0px 0px 24px\; line-height: 2em\;">Bunker Hills Dinner Theatre seats 246 people. All tables seat six to eight people. Based on availability we may be able to accommodate parties larger than eight together at one table. Please call the Bunker Hills Box Office to request special accommodations for groups larger than eight people.&nbsp\;</p>\n\n<p style="box-sizing: border-box\; margin: 0px 0px 24px\; line-height: 2em\;">Bunker Hills Event Center will assign seating based on purchase date in an effort to maximize the guest experience and seating for each performance. Seating will be assigned from the front row back\, starting center stage and then working outward\, table by table and row by row as the tables are filled. Parties of less than eight may share a table with other guests. Seating assignments will be available at check-in onsite the day of the show.&nbsp\;</p>\n\n<p style="box-sizing: border-box\; margin: 0px 0px 24px\; line-height: 2em\;">Dinner Service</p>\n\n<p style="box-sizing: border-box\; margin: 0px 0px 24px\; line-height: 2em\;">Dinner seating time is 2 hours prior to the performance.&nbsp\; Dinner is served prior to the start of the performance. Bar service will be available throughout the dinner and intermission. There is no dining room service during the production.</p>\n\n<p style="box-sizing: border-box\; margin: 0px 0px 24px\; line-height: 2em\;">Matinee Service</p>\n\n<p style="box-sizing: border-box\; margin: 0px 0px 24px\; line-height: 2em\;">Matinee seating time is 90 minutes prior to the performance.&nbsp\; Dinner is served prior to the start of the performance. Bar service will be available throughout the dinner and intermission. There is no dining room service during the production.<br />\n<br />\nMenu -&nbsp\;</p>\n\n<p style="box-sizing: border-box\; margin: 0px 0px 24px\; line-height: 2em\; color: rgb(47\, 47\, 47)\; font-family: &quot\;Helvetica Neue&quot\;\, Helvetica\, Arial\, sans-serif\; font-size: 16px\; letter-spacing: 0.8px\;">Entr&eacute\;e Selections are served with Freshly Baked Bread\, Mixed Green Salad with Ranch Dressing\, Garlic Mashed Potatoes\, Vegetable Medley\, and a Holiday Dessert.</p>\n\n<p style="box-sizing: border-box\; margin: 0px 0px 24px\; line-height: 2em\; color: rgb(47\, 47\, 47)\; font-family: &quot\;Helvetica Neue&quot\;\, Helvetica\, Arial\, sans-serif\; font-size: 16px\; letter-spacing: 0.8px\;">Appetizers and Beverages are not included.</p>\n\n<p style="box-sizing: border-box\; margin: 0px 0px 24px\; line-height: 2em\; color: rgb(47\, 47\, 47)\; font-family: &quot\;Helvetica Neue&quot\;\, Helvetica\, Arial\, sans-serif\; font-size: 16px\; letter-spacing: 0.8px\;"><span style="box-sizing: border-box\; font-weight: 700\;">Entr&eacute\;e&nbsp\;Selection&nbsp\;(Select with Ticket Purchase During Checkout)</span></p>\n\n<p style="box-sizing: border-box\; margin: 0px 0px 24px\; line-height: 2em\; color: rgb(47\, 47\, 47)\; font-family: &quot\;Helvetica Neue&quot\;\, Helvetica\, Arial\, sans-serif\; font-size: 16px\; letter-spacing: 0.8px\;">Chicken Soubise:&nbsp\; Pan seared&nbsp\;Chicken Breast with Gruyere cheese and a Caramelized Onion Cream Sauce</p>\n\n<p style="box-sizing: border-box\; margin: 0px 0px 24px\; line-height: 2em\; color: rgb(47\, 47\, 47)\; font-family: &quot\;Helvetica Neue&quot\;\, Helvetica\, Arial\, sans-serif\; font-size: 16px\; letter-spacing: 0.8px\;">Boneless Short Ribs with Blackberry Brandy Demi-glace</p>\n\n<p style="box-sizing: border-box\; margin: 0px 0px 24px\; line-height: 2em\; color: rgb(47\, 47\, 47)\; font-family: &quot\;Helvetica Neue&quot\;\, Helvetica\, Arial\, sans-serif\; font-size: 16px\; letter-spacing: 0.8px\;">Grilled Salmon with Dill Butter&nbsp\; &nbsp\;</p>\n\n<p style="box-sizing: border-box\; margin: 0px 0px 24px\; line-height: 2em\; color: rgb(47\, 47\, 47)\; font-family: &quot\;Helvetica Neue&quot\;\, Helvetica\, Arial\, sans-serif\; font-size: 16px\; letter-spacing: 0.8px\;">Vegetarian:&nbsp\; Saffron Balsamic Grilled Vegetables:&nbsp\; Marinated and grilled red\, yellow and green bell peppers\, asparagus\, yellow squash\, red onions\, roma tomatoes and portobello mushrooms served on a bed of saffron rice and drizzled with balsamic syrup</p>\n\n<p style="box-sizing: border-box\; margin: 0px 0px 24px\; line-height: 2em\; color: rgb(47\, 47\, 47)\; font-family: &quot\;Helvetica Neue&quot\;\, Helvetica\, Arial\, sans-serif\; font-size: 16px\; letter-spacing: 0.8px\;"><span style="box-sizing: border-box\; font-weight: 700\;">Children&rsquo\;s Entr&eacute\;e</span>:&nbsp\; &nbsp\;Crispy Chicken Tenders served with Honey Mustard Dipping Sauce and Fries (Available for children under the age of 12)</p>\n\n<p style="box-sizing: border-box\; margin: 0px 0px 24px\; line-height: 2em\; color: rgb(47\, 47\, 47)\; font-family: &quot\;Helvetica Neue&quot\;\, Helvetica\, Arial\, sans-serif\; font-size: 16px\; letter-spacing: 0.8px\;">If you have any special dietary concerns we will do our best to accommodate with advanced notice.&nbsp\;Please contact us at (763) 951-7244 if you have questions.</p>\n\n<p style="box-sizing: border-box\; margin: 0px 0px 24px\; line-height: 2em\; color: rgb(47\, 47\, 47)\; font-family: &quot\;Helvetica Neue&quot\;\, Helvetica\, Arial\, sans-serif\; font-size: 16px\; letter-spacing: 0.8px\;">Please note dinner seating time is 2 hours prior to the performance.&nbsp\; Matinee seating is 90 minutes prior to the performance&nbsp\;</p>\n\n<p style="box-sizing: border-box\; margin: 0px 0px 24px\; line-height: 2em\; color: rgb(47\, 47\, 47)\; font-family: &quot\;Helvetica Neue&quot\;\, Helvetica\, Arial\, sans-serif\; font-size: 16px\; letter-spacing: 0.8px\;">Additions</p>\n\n<ul style="box-sizing: border-box\; margin-top: 0px\; margin-bottom: 10px\; color: rgb(47\, 47\, 47)\; font-family: &quot\;Helvetica Neue&quot\;\, Helvetica\, Arial\, sans-serif\; font-size: 16px\; letter-spacing: 0.8px\;">\n	<li style="box-sizing: border-box\;">Appetizers\, Cocktails\, Martinis\, Beer\, Wine\, Soda and Milk Available for Purchase</li>\n</ul>\n\n<p style="box-sizing: border-box\; margin: 0px 0px 24px\; line-height: 2em\;">Parking</p>\n\n<p style="box-sizing: border-box\; margin: 0px 0px 24px\; line-height: 2em\;">Complimentary parking is available on site.</p>\n\n<p style="box-sizing: border-box\; margin: 0px 0px 24px\; line-height: 2em\;">Run Time</p>\n\n<p style="box-sizing: border-box\; margin: 0px 0px 24px\; line-height: 2em\;">Snowed In-A holiday celebration of Songs is&nbsp\;currently 90 minutes&nbsp\;long including a 30-minute interlude for dancing.</p>\n\n<p style="box-sizing: border-box\; margin: 0px 0px 24px\; line-height: 2em\;">Age Requirements</p>\n\n<p style="box-sizing: border-box\; margin: 0px 0px 24px\; line-height: 2em\;">Holiday Theater is&nbsp\;not recommended for children under 8 years of age.</p>\n</div>\n</div>\n
LOCATION:Bunker Hills Event Center 12800 Bunker Prairie Road NW Coon Rapids\, MN 55448 (763) 951-7276
UID:e.1321.6315
SEQUENCE:3
DTSTAMP:20260424T002530Z
URL:https://business.i94westchamber.org/events/details/snowed-in-a-holiday-celebration-of-song-6315
END:VEVENT

END:VCALENDAR
