BEGIN:VCALENDAR
VERSION:2.0
PRODID:-//ChamberMaster//Event Calendar 2.0//EN
METHOD:PUBLISH
X-PUBLISHED-TTL:P3D
REFRESH-INTERVAL:P3D
CALSCALE:GREGORIAN
BEGIN:VEVENT
DTSTART:20141202T160000Z
DTEND:20141202T210000Z
X-MICROSOFT-CDO-ALLDAYEVENT:FALSE
SUMMARY:Social Media Workshops
DESCRIPTION:Stop by the Office anytime between 10:00am and 3:00pm & sit with DJ or Sara to get help with Twitter\, LinkedIn\, Facebook\, Google+\, & You Tube. This is a benefit for members only and covers basics.
X-ALT-DESC;FMTTYPE=text/html:Stop by the Office anytime between 10:00am and 3:00pm&nbsp\;&amp\; sit with DJ or Sara to get help with Twitter\, LinkedIn\, Facebook\, Google+\, &amp\; You Tube. This is a benefit for members only and covers basics.
LOCATION:Chamber Office in Rogers.
UID:e.1321.1356
SEQUENCE:3
DTSTAMP:20260424T141531Z
URL:https://business.i94westchamber.org/events/details/social-media-workshops-12-02-2014-1356
END:VEVENT

END:VCALENDAR
