BEGIN:VCALENDAR
VERSION:2.0
PRODID:-//ChamberMaster//Event Calendar 2.0//EN
METHOD:PUBLISH
X-PUBLISHED-TTL:P3D
REFRESH-INTERVAL:P3D
CALSCALE:GREGORIAN
BEGIN:VEVENT
DTSTART:20141222T160000Z
DTEND:20141222T210000Z
X-MICROSOFT-CDO-ALLDAYEVENT:FALSE
SUMMARY:Social Media Workshops
DESCRIPTION:Stop by the Office anytime between 10:00am & 3:00pm.  Sit with DJ or Sara to get help with Twitter\, LinkedIn\, Facebook\, Google+\, & You Tube. This is a benefit for members only and covers basics.
X-ALT-DESC;FMTTYPE=text/html:Stop by the Office anytime between 10:00am &amp\; 3:00pm.&nbsp\; Sit with DJ or Sara to get help with Twitter\, LinkedIn\, Facebook\, Google+\, &amp\; You Tube. This is a benefit for members only and covers basics.
LOCATION:Chamber Office in Rogers.
UID:e.1321.1357
SEQUENCE:3
DTSTAMP:20260424T141555Z
URL:https://business.i94westchamber.org/events/details/social-media-workshops-12-22-2014-1357
END:VEVENT

END:VCALENDAR
