BEGIN:VCALENDAR
VERSION:2.0
PRODID:-//ChamberMaster//Event Calendar 2.0//EN
METHOD:PUBLISH
X-PUBLISHED-TTL:P3D
REFRESH-INTERVAL:P3D
CALSCALE:GREGORIAN
BEGIN:VEVENT
DTSTART:20140702T230000Z
DTEND:20140703T030000Z
X-MICROSOFT-CDO-ALLDAYEVENT:FALSE
SUMMARY:Sounds at Sunset - Live Music on the Patio
DESCRIPTION:SOUNDS AT SUNSET\n\nLIVE MUSIC ON WEDNESDAYS\n\n(Summer Months Only)\n\n6:00-10:00pm*\n\n 2014 MUSIC SCHEDULE\n\n\n\nMay 28 Cisco Skanson\n\nJune 4 Z Vous Play\n\nJune 11 Shane Martin\n\nJune 18 Cindi Scheffler\n\nJune 25 Omega Gathering\n\nJuly 2 Smarty Pants\n\nJuly 9 Jana Anderson\n\nJuly 16 Two Hicks & A Chick\n\nJuly 23 Cisco Skanson\n\nJuly 30 Michael Lane\n\nAugust 6 Z Vous Play\n\nAugust 13 Shane Martin\n\nAugust 20 Two Hicks & A Chick\n\nAugust 27 Cisco Skanson\n\n\n\n*times & performers subject to change without notice
X-ALT-DESC;FMTTYPE=text/html:SOUNDS AT SUNSET<br />\nLIVE MUSIC ON WEDNESDAYS<br />\n(Summer Months Only)<br />\n6:00-10:00pm*<br />\n&nbsp\;2014 MUSIC SCHEDULE<br />\n<br />\nMay 28 Cisco Skanson<br />\nJune 4 Z Vous Play<br />\nJune 11 Shane Martin<br />\nJune 18 Cindi Scheffler<br />\nJune 25 Omega Gathering<br />\nJuly 2 Smarty Pants<br />\nJuly 9 Jana Anderson<br />\nJuly 16 Two Hicks &amp\; A Chick<br />\nJuly 23 Cisco Skanson<br />\nJuly 30 Michael Lane<br />\nAugust 6 Z Vous Play<br />\nAugust 13 Shane Martin<br />\nAugust 20 Two Hicks &amp\; A Chick<br />\nAugust 27 Cisco Skanson<br />\n<br />\n*times &amp\; performers&nbsp\;subject to change without notice
LOCATION:Rush Creek Golf Club
UID:e.1321.1122
SEQUENCE:3
DTSTAMP:20260424T210404Z
URL:https://business.i94westchamber.org/events/details/sounds-at-sunset-live-music-on-the-patio-07-02-2014-1122
END:VEVENT

END:VCALENDAR
