BEGIN:VCALENDAR
VERSION:2.0
PRODID:-//ChamberMaster//Event Calendar 2.0//EN
METHOD:PUBLISH
X-PUBLISHED-TTL:P3D
REFRESH-INTERVAL:P3D
CALSCALE:GREGORIAN
BEGIN:VEVENT
DTSTART:20141012T160000Z
DTEND:20141012T200000Z
X-MICROSOFT-CDO-ALLDAYEVENT:FALSE
SUMMARY:St. Albert Festival
DESCRIPTION:It's not too early \n\nto think about the \n\nSt. Albert Festival!\n\nSUNDAY\, OCTOBER 12\n\n11:00 TO 3:30\n\nChicken Dinner\n\nLive Entertainment:\n\nThe Fugitives\n\nKids Games\;\n\nInflatables\n\nRaffle\, Bingo\n\nTheme Baskets\n\nSilent Auction\n\nBack this year..\n\nWall of Wine
X-ALT-DESC;FMTTYPE=text/html:<strong><span style="font-size: 14pt\;"><span style="font-family: acclamationital\;"><span style="color: rgb(23\, 55\, 94)\;">It&rsquo\;s not too early </span></span></span></strong><br />\n<strong><span style="font-size: 14pt\;"><span style="font-family: acclamationital\;"><span style="color: rgb(23\, 55\, 94)\;">to</span></span></span></strong><strong><span style="font-size: 14pt\;"><span style="font-family: acclamationital\;"><span style="color: rgb(23\, 55\, 94)\;"> think about the </span></span></span></strong><br />\n<strong><span style="font-size: 14pt\;"><span style="font-family: acclamationital\;"><span style="color: rgb(23\, 55\, 94)\;">St. Albert Festival!</span></span></span></strong><br />\n<strong><span style="font-size: 16pt\;"><span style="font-family: acclamationital\;"><span style="color: rgb(192\, 0\, 0)\;">SUNDAY\, OCTOBER 12</span></span></span></strong><br />\n<strong><span style="font-size: 16pt\;"><span style="font-family: acclamationital\;"><span style="color: rgb(192\, 0\, 0)\;">11:00 TO 3:30</span></span></span></strong><br />\n<strong><span style="font-size: 14pt\;"><span style="font-family: acclamationital\;"><span style="color: rgb(31\, 73\, 125)\;">Chicken Dinner</span></span></span></strong><br />\n<strong><span style="font-size: 14pt\;"><span style="font-family: acclamationital\;"><span style="color: rgb(192\, 0\, 0)\;">Live Entertainment:</span></span></span></strong><br />\n<strong><span style="font-size: 14pt\;"><span style="font-family: acclamationital\;"><span style="color: rgb(192\, 0\, 0)\;">The Fugitives</span></span></span></strong><br />\n<strong><span style="font-size: 14pt\;"><span style="font-family: acclamationital\;"><span style="color: rgb(31\, 73\, 125)\;">Kids Games\;</span></span></span></strong><br />\n<strong><span style="font-size: 14pt\;"><span style="font-family: acclamationital\;"><span style="color: rgb(31\, 73\, 125)\;">Inflatables</span></span></span></strong><br />\n<strong><span style="font-size: 14pt\;"><span style="font-family: acclamationital\;"><span style="color: rgb(192\, 0\, 0)\;">Raffle\, Bingo</span></span></span></strong><br />\n<strong><span style="font-size: 14pt\;"><span style="font-family: acclamationital\;"><span style="color: rgb(192\, 0\, 0)\;">Theme Baskets</span></span></span></strong><br />\n<strong><span style="font-size: 14pt\;"><span style="font-family: acclamationital\;"><span style="color: rgb(192\, 0\, 0)\;">Silent Auction</span></span></span></strong><br />\n<strong><span style="font-size: 14pt\;"><span style="font-family: acclamationital\;"><span style="color: rgb(31\, 73\, 125)\;">Back this year..</span></span></span><br />\n<font color="#1f497d" face="Times New Roman">Wall of Wine</font></strong><br />\n&nbsp\;
LOCATION:Church of St. Albert 11400 - 57th St NE Albertville\, MN 55301
UID:e.1321.1223
SEQUENCE:3
DTSTAMP:20260424T154113Z
URL:https://business.i94westchamber.org/events/details/st-albert-festival-10-12-2014-1223
END:VEVENT

END:VCALENDAR
