BEGIN:VCALENDAR
VERSION:2.0
PRODID:-//ChamberMaster//Event Calendar 2.0//EN
METHOD:PUBLISH
X-PUBLISHED-TTL:P3D
REFRESH-INTERVAL:P3D
CALSCALE:GREGORIAN
BEGIN:VEVENT
DTSTART:20141114T233000Z
DTEND:20141115T030000Z
X-MICROSOFT-CDO-ALLDAYEVENT:FALSE
SUMMARY:St. John's Lutheran Church "Give Thanks\, Give Back" Gala
DESCRIPTION:Please join us for an evening of fun\, fellowship\, and fundraising benefiting tuition assistance and technology improvements.\n\n\n5:30pm Social Hour and Games Enjoy playing "Bling In Bubbles" for a chance to win a (real!) diamond\, try to catch the big one in the "Lakemaid Fishing Tournament"\, and more!\n\n\n\n7:00pm Dinner A delicious meal is planned with Filet Mignon served with saut ed fresh mushrooms\, potato\, vegetable\, salad\, roll\, coffee\, tea or milk. Then\, on your mark\, get ready and dash for your dessert!\n\n\n\n8:30pm Live Auction Get ready to bid quickly and often on some fabulous items donated by various sponsors.\n\n\n\nFormal wear is admired but not required. This event is for those 21 years and older.\n\n\n\nFollow St. John's Lutheran on Facebook as we reveal more details leading up to the event.\n\n\n\nIf you cannot attend the event\, you will be missed! If you would still like to make a donation\, click on the registration link above and complete the donation section.
X-ALT-DESC;FMTTYPE=text/html:<h3><span style="font-family: verdana\,geneva\,sans-serif\;">Please join us for an evening of fun\, fellowship\, and fundraising benefiting tuition assistance and technology improvements.</span></h3>\n<br />\n<span style="font-family: verdana\,geneva\,sans-serif\;"><strong>5:30pm Social Hour and Games</strong> Enjoy playing &ldquo\;Bling In Bubbles&rdquo\; for a chance to win a (real!) diamond\, try to catch the big one in the &ldquo\;Lakemaid Fishing Tournament&rdquo\;\, and more!<br />\n<br />\n<strong>7:00pm Dinner</strong> A delicious meal is planned with Filet Mignon served with saut&eacute\;ed fresh mushrooms\, potato\, vegetable\, salad\, roll\, coffee\, tea or milk. Then\, on your mark\, get ready and dash for your dessert!<br />\n<br />\n<strong>8:30pm Live Auction</strong> Get ready to bid quickly and often on some fabulous items donated by various sponsors.<br />\n<br />\nFormal wear is admired but not required. This event is for those 21 years and older.<br />\n<br />\nFollow St. John&rsquo\;s Lutheran on <a class="color9-font" href="https://www.facebook.com/STJLutheran?ref=hl" target="_blank"><font color="#cc7a00">Facebook</font></a> as we reveal more details leading up to the event.<br />\n<br />\nIf you cannot attend the event\, you will be missed! If you would still like to make a donation\, click on the registration link above and complete the donation section.</span>
LOCATION:
UID:e.1321.1229
SEQUENCE:3
DTSTAMP:20260424T141811Z
URL:https://business.i94westchamber.org/events/details/st-john-s-lutheran-church-give-thanks-give-back-gala-11-14-2014-1229
END:VEVENT

END:VCALENDAR
