BEGIN:VCALENDAR
VERSION:2.0
PRODID:-//ChamberMaster//Event Calendar 2.0//EN
METHOD:PUBLISH
X-PUBLISHED-TTL:P3D
REFRESH-INTERVAL:P3D
CALSCALE:GREGORIAN
BEGIN:VEVENT
DTSTART:20141004T150000Z
DTEND:20141004T180000Z
X-MICROSOFT-CDO-ALLDAYEVENT:FALSE
SUMMARY:St Michael Fire Department Open House
DESCRIPTION:Our doors will be open Saturday October 4th from 10am-1pm for our annual Open House! Tour the station\, explore a fire truck and enjoy a free lunch! We look forward to seeing you on Saturday!
X-ALT-DESC;FMTTYPE=text/html:<span>Our doors will be open Saturday October 4th from 10am-1pm for our annual Open House! Tour the station\, explore a fire truck and enjoy a free lunch! We look forward to seeing you on Saturday!</span>
LOCATION:
UID:e.1321.1232
SEQUENCE:3
DTSTAMP:20260424T155010Z
URL:https://business.i94westchamber.org/events/details/st-michael-fire-department-open-house-10-04-2014-1232
END:VEVENT

END:VCALENDAR
