BEGIN:VCALENDAR
VERSION:2.0
PRODID:-//ChamberMaster//Event Calendar 2.0//EN
METHOD:PUBLISH
X-PUBLISHED-TTL:P3D
REFRESH-INTERVAL:P3D
CALSCALE:GREGORIAN
BEGIN:VEVENT
DTSTART:20150502T120000Z
DTEND:20150502T180000Z
X-MICROSOFT-CDO-ALLDAYEVENT:FALSE
SUMMARY:St. Michael Spring Clean-Up Day
DESCRIPTION:St. Michael & Albertville Residents Only
X-ALT-DESC;FMTTYPE=text/html:St. Michael &amp\; Albertville Residents Only
LOCATION:St. Michael Public Works 3150 Lander Ave NE
UID:e.1321.1531
SEQUENCE:3
DTSTAMP:20260422T195129Z
URL:https://business.i94westchamber.org/events/details/st-michael-spring-clean-up-day-05-02-2015-1531
END:VEVENT

END:VCALENDAR
