BEGIN:VCALENDAR
VERSION:2.0
PRODID:-//ChamberMaster//Event Calendar 2.0//EN
METHOD:PUBLISH
X-PUBLISHED-TTL:P3D
REFRESH-INTERVAL:P3D
CALSCALE:GREGORIAN
BEGIN:VEVENT
DTSTART:20170131T170000Z
DTEND:20170131T190000Z
X-MICROSOFT-CDO-ALLDAYEVENT:FALSE
SUMMARY:State of the Cities
DESCRIPTION:THIS EVENT IS SOLD OUT.\n\n\n\nJoin us for the Annual State of the Cities Luncheon\, a unique opportunity to hear from the Mayors and City Administrators of the I-94 West Chamber of Commerce communities.\n\n\n\nCity leaders will provide an overview of their communities\, share the year in review\, and offer a picture of the year ahead. There will be time available for questions from the audience.  \nThis is an important event for our business community - don't miss it!\n\n\n\nSponsorships are available - please call DJ at 763.428.2921.\n\n\n\nCatered by The River Inn\n\nHerb Crusted Chicken\n\nTopped w/Dijon Horseradish Sauce\n\nGarlic Mashed Potatoes\n\nAsparagus\n\nDinner Roll\n\nAssorted Cheesecake/Bars\n\nBeverages
X-ALT-DESC;FMTTYPE=text/html:<p><span style="font-size:16px\;"><span style="font-family: century gothic\,sans-serif\;">THIS EVENT IS SOLD OUT.<br />\n<br />\nJoin us for the Annual State of the Cities Luncheon\, a unique opportunity to hear from the Mayors and City Administrators </span><span style="font-family: century gothic\,sans-serif\;">of the I-94 West Chamber of Commerce communities.</span><br />\n<br />\n<span style="font-family: century gothic\,sans-serif\;">City leaders will provide an overview of their communities\, </span><span style="font-family: century gothic\,sans-serif\;">share the year in review\, and offer a picture of the year ahead. There will be time available for questions from the audience.&nbsp\; </span></span></p>\n<span style="font-size: 14px\;"><span style="font-size:16px\;"><span style="font-family: century gothic\,sans-serif\;">This is an important event for our business community - don&#39\;t miss it!<br />\n<br />\nSponsorships are available - please call DJ at 763.428.2921.</span></span></span><br />\n<br />\n<strong><span style="font-style:normal\;"><span style="font-family:arial\,sans-serif\;">Catered by The River Inn<br />\nHerb Crusted Chicken</span></span></strong><br />\n<strong><span style="font-style:normal\;"><span style="font-family:arial\,sans-serif\;">Topped w/Dijon Horseradish Sauce</span></span></strong><br />\n<strong><span style="font-style:normal\;"><span style="font-family:arial\,sans-serif\;">Garlic Mashed Potatoes</span></span></strong><br />\n<strong><span style="font-style:normal\;"><span style="font-family:arial\,sans-serif\;">Asparagus</span></span></strong><br />\n<strong><span style="font-style:normal\;"><span style="font-family:arial\,sans-serif\;">Dinner Roll</span></span></strong><br />\n<strong><span style="font-style:normal\;"><span style="font-family:arial\,sans-serif\;">Assorted Cheesecake/Bars</span></span></strong><br />\n<strong><span style="font-style:normal\;"><span style="font-family:arial\,sans-serif\;">Beverages&nbsp\;&nbsp\;&nbsp\;&nbsp\;&nbsp\;&nbsp\;&nbsp\;&nbsp\;&nbsp\;&nbsp\;&nbsp\;&nbsp\;&nbsp\;&nbsp\;&nbsp\; </span></span></strong><br />\n<br />\n&nbsp\;
LOCATION:St. Michael City Hall
UID:e.1321.1861
SEQUENCE:3
DTSTAMP:20260421T144001Z
URL:https://business.i94westchamber.org/events/details/state-of-the-cities-01-31-2017-1861
END:VEVENT

END:VCALENDAR
