BEGIN:VCALENDAR
VERSION:2.0
PRODID:-//ChamberMaster//Event Calendar 2.0//EN
METHOD:PUBLISH
X-PUBLISHED-TTL:P3D
REFRESH-INTERVAL:P3D
CALSCALE:GREGORIAN
BEGIN:VEVENT
DTSTART:20160310T173000Z
DTEND:20160310T190000Z
X-MICROSOFT-CDO-ALLDAYEVENT:FALSE
SUMMARY:State of the Cities
DESCRIPTION:Wright County Economic Development Partnership State of the Cities\n\n\n\nPlease join us for Part One of State of the Cities for 2016. This event is a great way to connect with the communities of Wright County\, build off of each other's successes\, connect with the private sector for projects (or connect with the public sector for projects)\, and enable us all to work together for the benefit of our region. Communities will provide a year in review\, take a look forward\, and offer insight as to how we can grow together.
X-ALT-DESC;FMTTYPE=text/html:Wright County Economic Development Partnership State of the Cities<br />\n<br />\nPlease join us for Part One of State of the Cities for 2016. This event is a great way to connect with the communities of Wright County\, build off of each other&#39\;s successes\, connect with the private sector for projects (or connect with the public sector for projects)\, and enable us all to work together for the benefit of our region. Communities will provide a year in review\, take a look forward\, and offer insight as to how we can grow together.
LOCATION:Delano City Hall - 234 2nd ST N Delano MN
UID:e.1321.1862
SEQUENCE:3
DTSTAMP:20260422T053606Z
URL:https://business.i94westchamber.org/events/details/state-of-the-cities-03-10-2016-1862
END:VEVENT

END:VCALENDAR
