BEGIN:VCALENDAR
VERSION:2.0
PRODID:-//ChamberMaster//Event Calendar 2.0//EN
METHOD:PUBLISH
X-PUBLISHED-TTL:P3D
REFRESH-INTERVAL:P3D
CALSCALE:GREGORIAN
BEGIN:VEVENT
DTSTART:20160924T140000Z
DTEND:20160924T180000Z
X-MICROSOFT-CDO-ALLDAYEVENT:FALSE
SUMMARY:STMA Beer Run
DESCRIPTION:STMA Rotary Club BEER RUN\n\nSaturday\, September 24\, 2016\n\nSt. Michael Lower Rec Center\n\n\n\n5K Beer Run/Walk\n\nKids' Root Beer Fun Run\n\nFood Trucks / Music / Games / Prizes\n\nFUN FOR THE ENTIRE FAMILY!\n\n\n\nREGISTRATION NOW OPEN! WWW.MYFYCC.COM\n\n\n\nRegistration: 9 am to 10:30 am\n\nKids' Fun Run: 10:45 am\n\n5k Run/Walk: 11 am\n\n\n\nCOST:\n\nKids' Root Beer Fun Run: $15 - includes T-shirt\n\n\n\n5k Bronze Level: $35 - includes T-shirt\n\n5k Silver Level: $55 - includes T-shirt\, meal ticket\, and $10 donation to STMA Rotary\n\n5k Gold Level: $75 - includes T-shirt\, meal ticket\, beer ticket\, and $25 donation to STMA Rotary\n\n\n\nFirst 150 adult registrants receive a swag bag\n\n\n\nMust register by September 1 to receive a T-shirt\n\n\n\nThanks to our Platinum Sponsor Dunn Brothers!\n\n\n\nProceeds benefit the community programs of the STMA Rotary Club. For more information about our club\, visit us at www.stmarotary.org
X-ALT-DESC;FMTTYPE=text/html:<span class="_4n-j fsl">STMA Rotary Club BEER RUN<br />\nSaturday\, September 24\, 2016<br />\nSt. Michael Lower Rec Center<br />\n<br />\n5K Beer Run/Walk<br />\nKids&#39\; Root Beer Fun Run<br />\nFood Trucks / Music / Games / Prizes<br />\nFUN FOR THE ENTIRE FAMILY!<br />\n<br />\nREGISTRATION NOW OPEN! <a href="http://WWW.MYFYCC.COM/" rel="nofollow nofollow" target="_blank">WWW.MYFYCC.COM</a><br />\n<br />\nRegistration: 9 am to 10:30 am<br />\n<span class="text_exposed_show">Kids&#39\; Fun Run: 10:45 am<br />\n5k Run/Walk: 11 am<br />\n<br />\nCOST:<br />\nKids&#39\; Root Beer Fun Run: $15 - includes T-shirt<br />\n<br />\n5k Bronze Level: $35 - includes T-shirt<br />\n5k Silver Level: $55 - includes T-shirt\, meal ticket\, and $10 donation to STMA Rotary<br />\n5k Gold Level: $75 - includes T-shirt\, meal ticket\, beer ticket\, and $25 donation to STMA Rotary<br />\n<br />\nFirst 150 adult registrants receive a swag bag<br />\n<br />\nMust register by September 1 to receive a T-shirt<br />\n<br />\nThanks to our Platinum Sponsor Dunn Brothers!<br />\n<br />\nProceeds benefit the community programs of the STMA Rotary Club. For more information about our club\, visit us at <a href="http://www.stmarotary.org/" rel="nofollow nofollow" target="_blank">www.stmarotary.org</a></span></span>
LOCATION:
UID:e.1321.2396
SEQUENCE:3
DTSTAMP:20260421T200349Z
URL:https://business.i94westchamber.org/events/details/stma-beer-run-09-24-2016-2396
END:VEVENT

END:VCALENDAR
