BEGIN:VCALENDAR
VERSION:2.0
PRODID:-//ChamberMaster//Event Calendar 2.0//EN
METHOD:PUBLISH
X-PUBLISHED-TTL:P3D
REFRESH-INTERVAL:P3D
CALSCALE:GREGORIAN
BEGIN:VEVENT
DTSTART:20150201T010000Z
DTEND:20150201T030000Z
X-MICROSOFT-CDO-ALLDAYEVENT:FALSE
SUMMARY:STMA Silent Auction
DESCRIPTION:A silent auction benefiting the STMA All Night Grad Party is Saturday\, Jan. 31\, 7 to 9 p.m. at the St Michael City Center. Join for a fun evening to sample a variety of beverages and share complimentary hors d'oeuvres. Tickets are $25 each\, with a limited quantity available. Contact Tracy B. by email jtatberg_1@juno.com or by phone 763-238-3665 to purchase tickets. Proceeds go towards the All Night Grad Party for the STMA Class of 2015.
X-ALT-DESC;FMTTYPE=text/html:A silent auction benefiting the STMA All Night Grad Party is Saturday\, Jan. 31\, 7 to 9 p.m. at the St Michael City Center. Join for a fun evening to sample a variety of beverages and share complimentary hors d&rsquo\;oeuvres. Tickets are $25 each\, with a limited quantity available. Contact Tracy B. by email jtatberg_1@juno.com or by phone 763-238-3665 to purchase tickets. Proceeds go towards the All Night Grad Party for the STMA Class of 2015.
LOCATION:St. Michael City Center 11800 Town Center Drive\, St. Michael\, MN 55376
UID:e.1321.1390
SEQUENCE:3
DTSTAMP:20260424T112440Z
URL:https://business.i94westchamber.org/events/details/stma-silent-auction-01-31-2015-1390
END:VEVENT

END:VCALENDAR
