BEGIN:VCALENDAR
VERSION:2.0
PRODID:-//ChamberMaster//Event Calendar 2.0//EN
METHOD:PUBLISH
X-PUBLISHED-TTL:P3D
REFRESH-INTERVAL:P3D
CALSCALE:GREGORIAN
BEGIN:VEVENT
DTSTART;VALUE=DATE:20140426
DTEND;VALUE=DATE:20140427
TRANSP:TRANSPARENT
X-MICROSOFT-CDO-ALLDAYEVENT:TRUE
SUMMARY:Stomp Out Hunger
DESCRIPTION:5K Run/Walk for CROSS\n\n\n\nProceeds benefit CROSS Services and will be used to provide food\, emergency shelter\, meals on wheels\, clothing\, school supplies\, and financial assistance to families in the NW Hennepin communities of Champlin\, Corcoran\, Dayton\, Maple Grove\, Osseo\, and Rogers.\n\n\n\nRace day registration begins at 8 am.\n\n\n\nFor more information:\n\nemail: lifeandgrowth@wordofpeace.org\n\nWord of Peace Lutheran Church
X-ALT-DESC;FMTTYPE=text/html:5K Run/Walk for CROSS<br />\n<br />\nProceeds benefit CROSS Services and will be used to provide food\, emergency shelter\, meals on wheels\, clothing\, school supplies\, and financial assistance to families in the NW Hennepin communities of Champlin\, Corcoran\, Dayton\, Maple Grove\, Osseo\, and Rogers.<br />\n<br />\nRace day registration begins at 8 am.<br />\n<br />\nFor more information:<br />\nemail: lifeandgrowth@wordofpeace.org<br />\nWord of Peace Lutheran Church
LOCATION:Word of Peace Lutheran Church 21705 129th Ave N Rogers\, MN 55374
UID:e.1321.1095
SEQUENCE:3
DTSTAMP:20260424T233440Z
URL:https://business.i94westchamber.org/events/details/stomp-out-hunger-04-26-2014-1095
END:VEVENT

END:VCALENDAR
