BEGIN:VCALENDAR
VERSION:2.0
PRODID:-//ChamberMaster//Event Calendar 2.0//EN
METHOD:PUBLISH
X-PUBLISHED-TTL:P3D
REFRESH-INTERVAL:P3D
CALSCALE:GREGORIAN
BEGIN:VEVENT
DTSTART:20120919T130000Z
DTEND:20120919T140000Z
X-MICROSOFT-CDO-ALLDAYEVENT:FALSE
SUMMARY:Strategies for Smart Giving
DESCRIPTION:Strategies for Smart Giving is an interactive one-hour program designed to help our Members be more strategic about their charitable donations.  The program's facilitator\, Jackie Reis\, will present and discuss a number of tools businesses can use to put structure to their giving and help them learn when to say "yes" and how to say "no" to the numerous requests they get from community groups seeking their support.\n\n\n\nThis program is part of Minnesota Business Gives\, an effort by the Minnesota Chamber of Commerce to motivate\, educate\, and recognize local businesses for the valuable contributions they make to their communities.  Business Gives is a partnership between the Minnesota Chamber and local chambers throughout the state.
X-ALT-DESC;FMTTYPE=text/html:<strong>Strategies for Smart Giving</strong> is an interactive <em>one-hour program </em>designed to help our Members be more strategic about their charitable donations.&nbsp\; The program&#39\;s facilitator\, Jackie Reis\, will present and discuss a number of tools businesses can use to put structure to their giving and help them learn when to say &quot\;yes&quot\; and how to say &quot\;no&quot\; to the numerous requests they get from community groups seeking their support.<br />\n<br />\nThis program is part of <em>Minnesota Business Gives\, </em>an effort by the Minnesota Chamber of Commerce to motivate\, educate\, and recognize local businesses for the valuable contributions they make to their communities.&nbsp\; <em>Business Gives</em> is a partnership between the Minnesota Chamber and local chambers throughout the state.
LOCATION:Chamber Office\, Rogers
UID:e.1321.651
SEQUENCE:3
DTSTAMP:20260426T015113Z
URL:https://business.i94westchamber.org/events/details/strategies-for-smart-giving-09-19-2012-651
END:VEVENT

END:VCALENDAR
