BEGIN:VCALENDAR
VERSION:2.0
PRODID:-//ChamberMaster//Event Calendar 2.0//EN
METHOD:PUBLISH
X-PUBLISHED-TTL:P3D
REFRESH-INTERVAL:P3D
CALSCALE:GREGORIAN
BEGIN:VEVENT
DTSTART:20170304T170000Z
DTEND:20170304T180000Z
X-MICROSOFT-CDO-ALLDAYEVENT:FALSE
SUMMARY:Student Loan Repayment Options
DESCRIPTION:ForLearn about student loans and income-based repayment options along with the advantages and disadvantages of each option. Learn about trends in student loans nationwide as well. Collaborator: Sona Financial.
X-ALT-DESC;FMTTYPE=text/html:ForLearn about student loans and income-based repayment options along with the advantages and disadvantages of each option. Learn about trends in student loans nationwide as well. Collaborator: Sona Financial.
LOCATION:Rogers Library
UID:e.1321.2642
SEQUENCE:3
DTSTAMP:20260421T112923Z
URL:https://business.i94westchamber.org/events/details/student-loan-repayment-options-2642
END:VEVENT

END:VCALENDAR
