BEGIN:VCALENDAR
VERSION:2.0
PRODID:-//ChamberMaster//Event Calendar 2.0//EN
METHOD:PUBLISH
X-PUBLISHED-TTL:P3D
REFRESH-INTERVAL:P3D
CALSCALE:GREGORIAN
BEGIN:VEVENT
DTSTART:20150627T170000Z
DTEND:20150627T210000Z
X-MICROSOFT-CDO-ALLDAYEVENT:FALSE
SUMMARY:Summer Kick-Off Craft & Vendor Event
DESCRIPTION:Craft and vendors excited to share their summer products with you! Refreshments and snacks will be provided.
X-ALT-DESC;FMTTYPE=text/html:Craft and vendors excited to share their summer products with you! Refreshments and snacks will be provided.
LOCATION:St. Michael Legion 25 Central Ave E St. Michael\, MN
UID:e.1321.1509
SEQUENCE:3
DTSTAMP:20260422T171623Z
URL:https://business.i94westchamber.org/events/details/summer-kick-off-craft-vendor-event-06-27-2015-1509
END:VEVENT

END:VCALENDAR
