BEGIN:VCALENDAR
VERSION:2.0
PRODID:-//ChamberMaster//Event Calendar 2.0//EN
METHOD:PUBLISH
X-PUBLISHED-TTL:P3D
REFRESH-INTERVAL:P3D
CALSCALE:GREGORIAN
BEGIN:VEVENT
DTSTART:20150516T150000Z
DTEND:20150516T210000Z
X-MICROSOFT-CDO-ALLDAYEVENT:FALSE
SUMMARY:Summer Sunshine Craft & Vendor Event
DESCRIPTION:We will have about 30 craft and vendors at the Rogers Community Center along with a door prize drawing!
X-ALT-DESC;FMTTYPE=text/html:We will have about 30 craft and vendors at the Rogers Community Center along with a door prize drawing!
LOCATION:Rogers Community Center
UID:e.1321.1508
SEQUENCE:3
DTSTAMP:20260422T195831Z
URL:https://business.i94westchamber.org/events/details/summer-sunshine-craft-vendor-event-05-16-2015-1508
END:VEVENT

END:VCALENDAR
