BEGIN:VCALENDAR
VERSION:2.0
PRODID:-//ChamberMaster//Event Calendar 2.0//EN
METHOD:PUBLISH
X-PUBLISHED-TTL:P3D
REFRESH-INTERVAL:P3D
CALSCALE:GREGORIAN
BEGIN:VEVENT
DTSTART;VALUE=DATE:20170322
DTEND;VALUE=DATE:20170323
TRANSP:TRANSPARENT
X-MICROSOFT-CDO-ALLDAYEVENT:TRUE
SUMMARY:Super Healthy Kids / Patient Appreciation & Open House
DESCRIPTION:
X-ALT-DESC;FMTTYPE=text/html:<br>\n&nbsp\;
LOCATION:Northern Community Chiropractic 20965 S Diamond Lake Road\, Rogers
UID:e.1321.2931
SEQUENCE:3
DTSTAMP:20260421T131131Z
URL:https://business.i94westchamber.org/events/details/super-healthy-kids-patient-appreciation-open-house-2931
END:VEVENT

END:VCALENDAR
