BEGIN:VCALENDAR
VERSION:2.0
PRODID:-//ChamberMaster//Event Calendar 2.0//EN
METHOD:PUBLISH
X-PUBLISHED-TTL:P3D
REFRESH-INTERVAL:P3D
CALSCALE:GREGORIAN
BEGIN:VEVENT
DTSTART:20190817T170000Z
DTEND:20190818T000000Z
X-MICROSOFT-CDO-ALLDAYEVENT:FALSE
SUMMARY:Swing for Skip
DESCRIPTION:Join us for a special golf outing and dinner that will benefit the National Heart Association. \n\nIn memory of Skip McFerran. \n\n\n\n2nd Annual Swing for Skip Golf Tournament is set for August 17th\, 2019!\n\n\n\nWe hope to see everyone there and hope for a great turn out again this year!
X-ALT-DESC;FMTTYPE=text/html:<span style="color:rgb(29\, 33\, 41)\; font-family:helvetica\,arial\,sans-serif\; font-size:14px">Join us for a special golf outing and dinner that will benefit the National Heart Association.&nbsp\;<br />\nIn memory of Skip McFerran.&nbsp\;<br />\n<br />\n2nd Annual Swing for Skip Golf Tournament is set for August 17th\, 2019!</span><br />\n<br />\n<span style="color:rgb(29\, 33\, 41)\; font-family:helvetica\,arial\,sans-serif\; font-size:14px">We hope to see everyone there and hope for a great turn out again this year!</span>
LOCATION:Pheasant Acres Golf Course - 10705 County Rd 116\, Rogers\, MN 55374
UID:e.1321.6307
SEQUENCE:3
DTSTAMP:20260420T214019Z
URL:https://business.i94westchamber.org/events/details/swing-for-skip-6307
END:VEVENT

END:VCALENDAR
