BEGIN:VCALENDAR
VERSION:2.0
PRODID:-//ChamberMaster//Event Calendar 2.0//EN
METHOD:PUBLISH
X-PUBLISHED-TTL:P3D
REFRESH-INTERVAL:P3D
CALSCALE:GREGORIAN
BEGIN:VEVENT
DTSTART:20150327T173000Z
DTEND:20150327T213000Z
X-MICROSOFT-CDO-ALLDAYEVENT:FALSE
SUMMARY:Tech Cities 2015
DESCRIPTION:Tech Cities 2015\nFrom startups to Fortune 500 players\, Minnesota boasts a growing number of tech business\, innovations\, and professionals. Tech-focused firms occupy half the spots on Business Journal's Fast 50 list\, offering an array of IT solutions\, business analytics\, and e-commerce services. Yet despite local resources\, some companies have left the Twin Cities in search of tech talent and community.\n\n\n\nTech Cities 2015 brings together professionals\, policy-makers\, and educators to chart the future of Minnesota tech. How can we strengthen and promote the region as a source for tech leadership\, talent\, and innovation? At this learning and networking event\, participants will share research findings\, business breakthroughs\, and diverse perspectives on the state of Minnesota tech\, including wins\, opportunities and challenges.
X-ALT-DESC;FMTTYPE=text/html:<div style="color: rgb(221\, 119\, 39)\; padding-top: 5px\; padding-bottom: 10px\; font-size: 12px\; font-weight: bold\;">Tech Cities 2015</div>\nFrom startups to Fortune 500 players\, Minnesota boasts a growing number of tech business\, innovations\, and professionals. Tech-focused firms occupy half the spots on Business Journal&#39\;s Fast 50 list\, offering an array of IT solutions\, business analytics\, and e-commerce services. Yet despite local resources\, some companies have left the Twin Cities in search of tech talent and community.<br />\n<br />\nTech Cities 2015 brings together professionals\, policy-makers\, and educators to chart the future of Minnesota tech. How can we strengthen and promote the region as a source for tech leadership\, talent\, and innovation? At this learning and networking event\, participants will share research findings\, business breakthroughs\, and diverse perspectives on the state of Minnesota tech\, including wins\, opportunities and challenges.
LOCATION:Carlson School of Management 321 19th Avenue South Minneapolis\, MN 55455 United States
UID:e.1321.1435
SEQUENCE:3
DTSTAMP:20260424T083023Z
URL:https://business.i94westchamber.org/events/details/tech-cities-2015-03-27-2015-1435
END:VEVENT

END:VCALENDAR
