BEGIN:VCALENDAR
VERSION:2.0
PRODID:-//ChamberMaster//Event Calendar 2.0//EN
METHOD:PUBLISH
X-PUBLISHED-TTL:P3D
REFRESH-INTERVAL:P3D
CALSCALE:GREGORIAN
BEGIN:VEVENT
DTSTART:20161124T010000Z
DTEND:20161124T021000Z
X-MICROSOFT-CDO-ALLDAYEVENT:FALSE
SUMMARY:Thanksgiving Eve Worship Service
DESCRIPTION:We don't thank God enough for our blessings. Join families and others in thanksgiving for all you have received from God and for your very life itself. \n\nWe will have special prayers of thanksgiving and praise and Holy Communion which is open to all baptized persons.\n\nBring the kids and entire family. Begin your Thanksgiving celebration in a spiritual way by giving thanks to God for all that you have received.
X-ALT-DESC;FMTTYPE=text/html:<span style="color:#4B4F56"><span style="font-family:helvetica\,sans-serif"><span style="font-size:10.5pt">We don&#39\;t thank God enough for our blessings. Join families and others in thanksgiving for all you have received from God and for your very life itself.&nbsp\;</span></span></span><br />\n<span style="color:#4B4F56"><span style="font-family:helvetica\,sans-serif"><span style="font-size:10.5pt">We will have special prayers of thanksgiving and praise and Holy Communion which is open to all baptized persons.<br />\nBring the kids and entire family. Begin your Thanksgiving celebration in a spiritual way by giving thanks to God for all that you have received.</span></span></span>
LOCATION:Holy Trinity Episcopal Church 1326 4th St. NW Elk River\, MN 55330
UID:e.1321.2528
SEQUENCE:3
DTSTAMP:20260421T184231Z
URL:https://business.i94westchamber.org/events/details/thanksgiving-eve-worship-service-2528
END:VEVENT

END:VCALENDAR
