BEGIN:VCALENDAR
VERSION:2.0
PRODID:-//ChamberMaster//Event Calendar 2.0//EN
METHOD:PUBLISH
X-PUBLISHED-TTL:P3D
REFRESH-INTERVAL:P3D
CALSCALE:GREGORIAN
BEGIN:VEVENT
DTSTART:20141107T133000Z
DTEND:20141107T150000Z
X-MICROSOFT-CDO-ALLDAYEVENT:FALSE
SUMMARY:The Breakfast Club
DESCRIPTION:The Breakfast Club is a monthly networking event for local businesses to form relationships in the community. Bring your business cards and promotional items. Breakfast is provided by The Legacy of St. Michael. Open to Non- Chamber members .
X-ALT-DESC;FMTTYPE=text/html:<span style="font-size: large\;"><span style="font-family: century gothic\;"><span style="color: rgb(0\, 82\, 136)\;">The Breakfast Club is a monthly networking event for local businesses to form relationships in the community. Bring your business cards and promotional items. Breakfast is provided by The Legacy of St. Michael. Open to Non- Chamber members .</span></span></span>
LOCATION:4400 Lange Ave NE St. Michael\, MN
UID:e.1321.1201
SEQUENCE:3
DTSTAMP:20260424T141554Z
URL:https://business.i94westchamber.org/events/details/the-breakfast-club-11-07-2014-1201
END:VEVENT

END:VCALENDAR
