BEGIN:VCALENDAR
VERSION:2.0
PRODID:-//ChamberMaster//Event Calendar 2.0//EN
METHOD:PUBLISH
X-PUBLISHED-TTL:P3D
REFRESH-INTERVAL:P3D
CALSCALE:GREGORIAN
BEGIN:VEVENT
DTSTART:20141205T133000Z
DTEND:20141205T150000Z
X-MICROSOFT-CDO-ALLDAYEVENT:FALSE
SUMMARY:The Breakfast Club
DESCRIPTION:The Breakfast Club is a monthly networking event for local businesses to form relationships in the community. Bring your business cards and promotional items. Breakfast is provided by The Legacy. \n\n\n\nHeld the 1st Friday of each month from 7:30 am to 9:00 am. \n\nThis is open to ALL businesses. \n\nChamber Membership is NOT required.
X-ALT-DESC;FMTTYPE=text/html:<span style="font-size: large\;"><span style="font-family: century gothic\;"><span style="color: rgb(0\, 82\, 136)\;">The Breakfast Club is a monthly networking event for local businesses to form relationships in the community. Bring your business cards and promotional items. Breakfast is provided by The Legacy. </span></span></span><br />\n<br />\n<span style="font-size: large\;"><span style="font-family: century gothic\;"><span style="color: rgb(0\, 82\, 136)\;">Held the 1st Friday of each month from 7:30 am to 9:00 am. </span></span></span><br />\n<span style="font-size: large\;"><span style="font-family: century gothic\;"><span style="color: rgb(0\, 82\, 136)\;">This is open to ALL businesses. </span></span></span><br />\n<span style="font-size: large\;"><span style="font-family: century gothic\;"><span style="color: rgb(0\, 82\, 136)\;">Chamber Membership is NOT required. </span></span></span>
LOCATION:4400 Lange Ave NE St. Michael\, MN
UID:e.1321.1211
SEQUENCE:3
DTSTAMP:20260424T141651Z
URL:https://business.i94westchamber.org/events/details/the-breakfast-club-12-05-2014-1211
END:VEVENT

END:VCALENDAR
