BEGIN:VCALENDAR
VERSION:2.0
PRODID:-//ChamberMaster//Event Calendar 2.0//EN
METHOD:PUBLISH
X-PUBLISHED-TTL:P3D
REFRESH-INTERVAL:P3D
CALSCALE:GREGORIAN
BEGIN:VEVENT
DTSTART:20161215T140000Z
DTEND:20161215T150000Z
X-MICROSOFT-CDO-ALLDAYEVENT:FALSE
SUMMARY:The Breakfast Club
DESCRIPTION:
X-ALT-DESC;FMTTYPE=text/html:
LOCATION:Sadie's Coffee Colonial Mall 403 Central Ave E #D St. Michael\, MN 55376
UID:e.1321.2487
SEQUENCE:3
DTSTAMP:20260421T155417Z
URL:https://business.i94westchamber.org/events/details/the-breakfast-club-2487
END:VEVENT

END:VCALENDAR
