BEGIN:VCALENDAR
VERSION:2.0
PRODID:-//ChamberMaster//Event Calendar 2.0//EN
METHOD:PUBLISH
X-PUBLISHED-TTL:P3D
REFRESH-INTERVAL:P3D
CALSCALE:GREGORIAN
BEGIN:VEVENT
DTSTART:20150516T150000Z
DTEND:20150516T170000Z
X-MICROSOFT-CDO-ALLDAYEVENT:FALSE
SUMMARY:The Hassan Area Historical Society Presentation by Sgt. James pagel
DESCRIPTION:The presentation will focus on the cultural aspects of the was in Afghanistan and war in Iraq.
X-ALT-DESC;FMTTYPE=text/html:The presentation will focus on the cultural aspects of the was in Afghanistan and war in Iraq.
LOCATION:Hassan Area Historical Society 25000 Hassan Pkwy Rogers\, MN
UID:e.1321.1530
SEQUENCE:3
DTSTAMP:20260422T184219Z
URL:https://business.i94westchamber.org/events/details/the-hassan-area-historical-society-presentation-by-sgt-james-pagel-05-16-2015-1530
END:VEVENT

END:VCALENDAR
