BEGIN:VCALENDAR
VERSION:2.0
PRODID:-//ChamberMaster//Event Calendar 2.0//EN
METHOD:PUBLISH
X-PUBLISHED-TTL:P3D
REFRESH-INTERVAL:P3D
CALSCALE:GREGORIAN
BEGIN:VEVENT
DTSTART:20170510T140000Z
DTEND:20170510T180000Z
X-MICROSOFT-CDO-ALLDAYEVENT:FALSE
SUMMARY:The Hidden Talent Pools
DESCRIPTION:THE HIDDEN TALENT POOLS\n\nAre you looking in the right places?\n\nMay 10 | 9:00 a.m.-1:00 p.m.\n\nMidpointe Event Center\, St. Paul\n\n\n\nWith workforce shortage a concern across Minnesota's diverse business sector\, now is the time to think differently about where to look for employees.\n\n\n\nJoin us for a half-day workshop developed by Grow Minnesota!  to review the statistics of workforce shortage - you'll leave thinking differently about where to look for employees. Our panel of experts will provide you with resources you may not have considered to help you fill the positions you have available. In addition\, the inaugural Minnesota Job Honor Awards will recognize Minnesotans who have overcome barriers to employment and the employers who hired them.
X-ALT-DESC;FMTTYPE=text/html:<strong><span style="color:#F2AE00\;"><span style="font-family:arial\,sans-serif\;"><span style="font-size:18.0pt\;">THE HIDDEN TALENT POOLS</span></span></span></strong><br />\n<span style="color:#00204E\;"><span style="font-family:arial\,sans-serif\;"><span style="font-size:18.0pt\;">Are you looking in the right places?</span></span></span><br />\n<strong><span style="color:#00204E\;"><span style="font-family:arial\,sans-serif\;"><span style="font-size:12.0pt\;">May 10 | 9:00 a.m.-1:00 p.m.</span></span></span></strong><br />\n<span style="color:#00204E\;"><span style="font-family:arial\,sans-serif\;"><span style="font-size:12.0pt\;"><strong><span style="font-family:arial\,sans-serif\;"><a href="https://www.google.com/maps/place/Midpointe+Event+Center/@44.953701\,-93.1644847\,17z/data=!3m1!4b1!4m5!3m4!1s0x87f62a0bcee62dcd:0x321464adc5842575!8m2!3d44.953701!4d-93.162296"><span style="color:#02004E\;">Midpointe Event Center</span></a>\, St. Paul</span></strong><br />\n<br />\nWith workforce shortage a concern across Minnesota&#39\;s diverse business sector\, now is the time to think differently about where to look for employees.<br />\n<br />\nJoin us for a half-day workshop developed by <a href="https://www.mnchamber.com/grow/grow-minnesota-0" target="_blank"><strong><span style="color:#02004E\;"><span style="font-family:arial\,sans-serif\;">Grow Minnesota!&reg\;</span></span></strong></a> to review the statistics of workforce shortage - you&#39\;ll leave thinking differently about where to look for employees. Our panel of experts will provide you with resources you may not have considered to help you fill the positions you have available.&nbsp\;In addition\, the inaugural <a href="http://www.jobhonor.org/minnesota-overview" target="_blank"><strong><span style="color:#02004E\;"><span style="font-family:arial\,sans-serif\;">Minnesota Job Honor Awards</span></span></strong></a> will recognize Minnesotans who have overcome barriers to employment and the employers who hired them.</span></span></span>
LOCATION:Midpointe Event Center 415 Pascal St. N. St. Paul\, MN 55104
UID:e.1321.2930
SEQUENCE:3
DTSTAMP:20260421T083308Z
URL:https://business.i94westchamber.org/events/details/the-hidden-talent-pools-2930
END:VEVENT

END:VCALENDAR
