BEGIN:VCALENDAR
VERSION:2.0
PRODID:-//ChamberMaster//Event Calendar 2.0//EN
METHOD:PUBLISH
X-PUBLISHED-TTL:P3D
REFRESH-INTERVAL:P3D
CALSCALE:GREGORIAN
BEGIN:VEVENT
DTSTART:20170321T123000Z
DTEND:20170321T163000Z
X-MICROSOFT-CDO-ALLDAYEVENT:FALSE
SUMMARY:The Leadership Connection with Erik Therwanger
DESCRIPTION:Brac\n\n\n\n\n\n\nTopic: The Leadership Connection\n\nPart 2: Elevate Priorities\n\n*Registration: 7:30 am\n\nWorkshop: 8:30 am   11:30 am\n\nBrackett's Crossing Country Club\, 17976 Judicial Road\, Lakeville\, MN 55044
X-ALT-DESC;FMTTYPE=text/html:<div class="page-wrap container">\n<div class="eleven columns" id="content">\n<div class="single post-813 event type-event status-publish hentry" id="post-813">\n<div class="entry-content">\n<div style="float:right\; margin:0px 0px 15px 15px\;">\n<div class="em-location-map-container" style="position:relative\; background: #CDCDCD\; width: 400px\; height: 300px\;">&nbsp\;</div>\n</div>\n</div>\n</div>\n</div>\n</div>\n\n<div style="position: absolute\; z-index: 0\; left: 0px\; top: 0px\;">\n<div style="overflow: hidden\; width: 400px\; height: 300px\;">&nbsp\;</div>\n</div>\n\n<div style="position: absolute\; left: 0px\; top: 0px\; z-index: 4\; width: 100%\; transform-origin: 367px 54px 0px\;">\n<div style="cursor: default\; position: absolute\; width: 230px\; height: 112px\; left: 148px\; top: -39px\; z-index: -39\;">\n<div class="gm-style-iw" style="top: 9px\; position: absolute\; left: 15px\; width: 200px\;">\n<div style="display: inline-block\; overflow: auto\; max-height: 218px\; max-width: 299px\;">\n<div class="em-map-balloon" style="font-size:12px\;">\n<div class="em-map-balloon-content"><strong>Brac</strong></div>\n</div>\n</div>\n</div>\n</div>\n</div>\n\n<p><strong>Topic:&nbsp\;The Leadership Connection</strong></p>\n\n<p>Part 2: Elevate Priorities</p>\n\n<p>*Registration: 7:30 am</p>\n\n<p>Workshop: 8:30 am &ndash\; 11:30 am</p>\n\n<p>Brackett&rsquo\;s Crossing Country Club\, 17976 Judicial Road\, Lakeville\, MN 55044</p>\n
LOCATION:
UID:e.1321.2612
SEQUENCE:3
DTSTAMP:20260421T113255Z
URL:https://business.i94westchamber.org/events/details/the-leadership-connection-with-erik-therwanger-03-21-2017-2612
END:VEVENT

END:VCALENDAR
